BEGIN:VCALENDAR
VERSION:2.0
PRODID:-//Rochester Baptist Church - ECPv6.15.20//NONSGML v1.0//EN
CALSCALE:GREGORIAN
METHOD:PUBLISH
X-WR-CALNAME:Rochester Baptist Church
X-ORIGINAL-URL:https://rochestermnbaptistchurch.org
X-WR-CALDESC:Events for Rochester Baptist Church
REFRESH-INTERVAL;VALUE=DURATION:PT1H
X-Robots-Tag:noindex
X-PUBLISHED-TTL:PT1H
BEGIN:VTIMEZONE
TZID:America/Chicago
BEGIN:DAYLIGHT
TZOFFSETFROM:-0600
TZOFFSETTO:-0500
TZNAME:CDT
DTSTART:20240310T080000
END:DAYLIGHT
BEGIN:STANDARD
TZOFFSETFROM:-0500
TZOFFSETTO:-0600
TZNAME:CST
DTSTART:20241103T070000
END:STANDARD
BEGIN:DAYLIGHT
TZOFFSETFROM:-0600
TZOFFSETTO:-0500
TZNAME:CDT
DTSTART:20250309T080000
END:DAYLIGHT
BEGIN:STANDARD
TZOFFSETFROM:-0500
TZOFFSETTO:-0600
TZNAME:CST
DTSTART:20251102T070000
END:STANDARD
BEGIN:DAYLIGHT
TZOFFSETFROM:-0600
TZOFFSETTO:-0500
TZNAME:CDT
DTSTART:20260308T080000
END:DAYLIGHT
BEGIN:STANDARD
TZOFFSETFROM:-0500
TZOFFSETTO:-0600
TZNAME:CST
DTSTART:20261101T070000
END:STANDARD
END:VTIMEZONE
BEGIN:VEVENT
DTSTART;TZID=America/Chicago:20250810T100000
DTEND;TZID=America/Chicago:20250813T190000
DTSTAMP:20260424T020355
CREATED:20250709T023100Z
LAST-MODIFIED:20250808T020425Z
UID:2041-1754820000-1755111600@rochestermnbaptistchurch.org
SUMMARY:Celebrating 26 years of RBC with Evangelist Tim Booth
DESCRIPTION:We are grateful for what the Lord has done over the years. Come and help us celebrate with a Revival Meeting to stir our spirits in LORD. Evangelist Tim Booth will be preaching for us over the course of 4 days. He has a heart for God’s people. You will not be disappointed. \nRevival Schedule \nSunday: Dessert First Cake & coffee Fellowship 915 a.m. \nSS 10 am\, Morning service 11 am\, Church picnic at the Marx Home 5 to 8 pm \nMonday: 7 pm meeting with slushies for everyone \nTuesday: 7 pm meeting with popcorn & peanuts for everyone \nWednesday: 7 pm meeting with ultimate nachos
URL:https://rochestermnbaptistchurch.org/event/celebrating-25-years-of-rbc-with-evangelist-tim-booth/
LOCATION:Rochester Baptist Church\, 420 11th Ave NE\, Rochester\, MN\, 55906
ATTACH;FMTTYPE=image/jpeg:https://rochestermnbaptistchurch.org/wp-content/uploads/2025/07/RevivalBeginsWithUsLogo.jpeg
END:VEVENT
BEGIN:VEVENT
DTSTART;TZID=America/Chicago:20250811T190000
DTEND;TZID=America/Chicago:20250811T203000
DTSTAMP:20260424T020355
CREATED:20250808T013331Z
LAST-MODIFIED:20250808T013331Z
UID:2052-1754938800-1754944200@rochestermnbaptistchurch.org
SUMMARY:Revival Meeting 7 p.m. - Evangelist Tim Booth
DESCRIPTION:Come and hear exciting life changing preaching. Slushies will be served after the service! Hope to see you there.
URL:https://rochestermnbaptistchurch.org/event/revival-meeting-7-p-m-evangelist-tim-booth/
LOCATION:Rochester Baptist Church\, 420 11th Ave NE\, Rochester\, MN\, 55906
ATTACH;FMTTYPE=image/jpeg:https://rochestermnbaptistchurch.org/wp-content/uploads/2025/08/slushy-night.jpeg
END:VEVENT
BEGIN:VEVENT
DTSTART;TZID=America/Chicago:20250812T190000
DTEND;TZID=America/Chicago:20250812T203000
DTSTAMP:20260424T020355
CREATED:20250808T014035Z
LAST-MODIFIED:20250808T014035Z
UID:2055-1755025200-1755030600@rochestermnbaptistchurch.org
SUMMARY:Revival Meeting with Evangelist Tim Booth 7 p.m.
DESCRIPTION:Come and hear exciting life changing preaching. Popcorn and Peanuts will be served after the service! Hope to see you there.
URL:https://rochestermnbaptistchurch.org/event/revival-meeting-with-evangelist-tim-booth-7-p-m/
LOCATION:Rochester Baptist Church\, 420 11th Ave NE\, Rochester\, MN\, 55906
ATTACH;FMTTYPE=image/webp:https://rochestermnbaptistchurch.org/wp-content/uploads/2025/08/nordeck-6246.jpg.webp
END:VEVENT
BEGIN:VEVENT
DTSTART;TZID=America/Chicago:20250813T190000
DTEND;TZID=America/Chicago:20250813T210000
DTSTAMP:20260424T020355
CREATED:20250808T014722Z
LAST-MODIFIED:20250808T014722Z
UID:2060-1755111600-1755118800@rochestermnbaptistchurch.org
SUMMARY:Revival Meeting with Evangelist Tim Booth 7 p.m.
DESCRIPTION:Come and hear exciting life changing preaching. Ultimate Nachos will be served after the service! Hope to see you there. You will be glad you came. New friends\, fellowship and a spiritual challenge!
URL:https://rochestermnbaptistchurch.org/event/revival-meeting-with-evangelist-tim-booth-7-p-m-2/
LOCATION:Rochester Baptist Church\, 420 11th Ave NE\, Rochester\, MN\, 55906
ATTACH;FMTTYPE=image/jpeg:https://rochestermnbaptistchurch.org/wp-content/uploads/2025/08/Nacho-night.jpeg
END:VEVENT
BEGIN:VEVENT
DTSTART;TZID=America/Chicago:20250822T120000
DTEND;TZID=America/Chicago:20250822T140000
DTSTAMP:20260424T020355
CREATED:20250709T024804Z
LAST-MODIFIED:20250808T015302Z
UID:2046-1755864000-1755871200@rochestermnbaptistchurch.org
SUMMARY:Ladies Kitchen Table Bible Study
DESCRIPTION:Hi Ladies\, we are reading the book\, Having a Mary Heart in a Martha World. \nAugust is Chapter 3. Be sure and save the date. Whether or not you are reading the book\, you are welcome to participate. We share snacks\, smiles\, encouragement\, fellowship and most all blessings from the LORD…come out and join us. It’s time to stop saying\, “no\,” or  “I am afraid to go”….you can do it!!! We will see you there! We will meet at the Noonan Kitchen Table from 12 to 2 p.m. Please call for address 507.287.9771 \n \n 
URL:https://rochestermnbaptistchurch.org/event/ladies-kitchen-table-bible-study-3/
ATTACH;FMTTYPE=image/jpeg:https://rochestermnbaptistchurch.org/wp-content/uploads/2025/07/image.jpeg
END:VEVENT
END:VCALENDAR