BEGIN:VCALENDAR
VERSION:2.0
PRODID:-//Rochester Baptist Church - ECPv6.15.20//NONSGML v1.0//EN
CALSCALE:GREGORIAN
METHOD:PUBLISH
X-WR-CALNAME:Rochester Baptist Church
X-ORIGINAL-URL:https://rochestermnbaptistchurch.org
X-WR-CALDESC:Events for Rochester Baptist Church
REFRESH-INTERVAL;VALUE=DURATION:PT1H
X-Robots-Tag:noindex
X-PUBLISHED-TTL:PT1H
BEGIN:VTIMEZONE
TZID:America/Chicago
BEGIN:DAYLIGHT
TZOFFSETFROM:-0600
TZOFFSETTO:-0500
TZNAME:CDT
DTSTART:20230312T080000
END:DAYLIGHT
BEGIN:STANDARD
TZOFFSETFROM:-0500
TZOFFSETTO:-0600
TZNAME:CST
DTSTART:20231105T070000
END:STANDARD
BEGIN:DAYLIGHT
TZOFFSETFROM:-0600
TZOFFSETTO:-0500
TZNAME:CDT
DTSTART:20240310T080000
END:DAYLIGHT
BEGIN:STANDARD
TZOFFSETFROM:-0500
TZOFFSETTO:-0600
TZNAME:CST
DTSTART:20241103T070000
END:STANDARD
BEGIN:DAYLIGHT
TZOFFSETFROM:-0600
TZOFFSETTO:-0500
TZNAME:CDT
DTSTART:20250309T080000
END:DAYLIGHT
BEGIN:STANDARD
TZOFFSETFROM:-0500
TZOFFSETTO:-0600
TZNAME:CST
DTSTART:20251102T070000
END:STANDARD
END:VTIMEZONE
BEGIN:VEVENT
DTSTART;TZID=America/Chicago:20241006T173000
DTEND;TZID=America/Chicago:20241006T203000
DTSTAMP:20260424T185055
CREATED:20241002T235812Z
LAST-MODIFIED:20241004T215542Z
UID:1705-1728235800-1728246600@rochestermnbaptistchurch.org
SUMMARY:Evangelist/Musician Calvin Allen
DESCRIPTION:Join us THIS Sunday for exciting preaching and uplifting music with Calvin Allen. CD’s will be available for sale. Delicious breakfast served in fellowship area at 930 a.m. You will NOT be disappointed. We look forward to seeing you!  Come and see our newly refurbished auditorium.
URL:https://rochestermnbaptistchurch.org/event/evangelist-musician-calvin-allen/
LOCATION:Rochester Baptist Church\, 420 11th Ave NE\, Rochester\, MN\, 55906
ATTACH;FMTTYPE=image/jpeg:https://rochestermnbaptistchurch.org/wp-content/uploads/2024/10/86DB3AF8-DA0E-4EC9-9276-86D02BD91F35_4_5005_c.jpeg
END:VEVENT
BEGIN:VEVENT
DTSTART;TZID=America/Chicago:20241006T173000
DTEND;TZID=America/Chicago:20241006T203000
DTSTAMP:20260424T185055
CREATED:20241003T001130Z
LAST-MODIFIED:20241004T175124Z
UID:1707-1728235800-1728246600@rochestermnbaptistchurch.org
SUMMARY:Breakfast this Sunday 9:30 a.m.
DESCRIPTION:Join us for Breakfast with Evangelist Calvin Allen this Sunday
URL:https://rochestermnbaptistchurch.org/event/breakfast-this-sunday-930-a-m/
LOCATION:Rochester Baptist Church\, 420 11th Ave NE\, Rochester\, MN\, 55906
ATTACH;FMTTYPE=image/webp:https://rochestermnbaptistchurch.org/wp-content/uploads/2024/10/Breakfst.webp
END:VEVENT
BEGIN:VEVENT
DTSTART;TZID=America/Chicago:20241027T100000
DTEND;TZID=America/Chicago:20241027T123000
DTSTAMP:20260424T185055
CREATED:20241004T162045Z
LAST-MODIFIED:20241024T082115Z
UID:1716-1730023200-1730032200@rochestermnbaptistchurch.org
SUMMARY:Evangelist Darrell Murphy
DESCRIPTION:Come and enjoy the humor and challenging message by Evangelist Darrell Murphy!
URL:https://rochestermnbaptistchurch.org/event/evangelist-darrell-murphy/
LOCATION:Rochester Baptist Church\, 420 11th Ave NE\, Rochester\, MN\, 55906
ATTACH;FMTTYPE=image/png:https://rochestermnbaptistchurch.org/wp-content/uploads/2023/04/guest_preacher.png
END:VEVENT
END:VCALENDAR