BEGIN:VCALENDAR
VERSION:2.0
PRODID:-//Rochester Baptist Church - ECPv6.15.20//NONSGML v1.0//EN
CALSCALE:GREGORIAN
METHOD:PUBLISH
X-ORIGINAL-URL:https://rochestermnbaptistchurch.org
X-WR-CALDESC:Events for Rochester Baptist Church
REFRESH-INTERVAL;VALUE=DURATION:PT1H
X-Robots-Tag:noindex
X-PUBLISHED-TTL:PT1H
BEGIN:VTIMEZONE
TZID:America/Chicago
BEGIN:DAYLIGHT
TZOFFSETFROM:-0600
TZOFFSETTO:-0500
TZNAME:CDT
DTSTART:20220313T080000
END:DAYLIGHT
BEGIN:STANDARD
TZOFFSETFROM:-0500
TZOFFSETTO:-0600
TZNAME:CST
DTSTART:20221106T070000
END:STANDARD
BEGIN:DAYLIGHT
TZOFFSETFROM:-0600
TZOFFSETTO:-0500
TZNAME:CDT
DTSTART:20230312T080000
END:DAYLIGHT
BEGIN:STANDARD
TZOFFSETFROM:-0500
TZOFFSETTO:-0600
TZNAME:CST
DTSTART:20231105T070000
END:STANDARD
BEGIN:DAYLIGHT
TZOFFSETFROM:-0600
TZOFFSETTO:-0500
TZNAME:CDT
DTSTART:20240310T080000
END:DAYLIGHT
BEGIN:STANDARD
TZOFFSETFROM:-0500
TZOFFSETTO:-0600
TZNAME:CST
DTSTART:20241103T070000
END:STANDARD
END:VTIMEZONE
BEGIN:VEVENT
DTSTART;TZID=America/Chicago:20230903T123000
DTEND;TZID=America/Chicago:20230903T153000
DTSTAMP:20260425T131129
CREATED:20230903T060232Z
LAST-MODIFIED:20230903T060326Z
UID:479-1693744200-1693755000@rochestermnbaptistchurch.org
SUMMARY:Labor Day Weekend Picnic Night Out
DESCRIPTION:Please join us at the Noonan Home for an end of summer picnic. \nBeginning at 5:30 p.m. Bring your FAVORITE APPETIZER to share and lots of water! It will be a HOT evening out!
URL:https://rochestermnbaptistchurch.org/event/labor-day-weekend-picnic-night-out/
LOCATION:Noonan Home
ATTACH;FMTTYPE=image/png:https://rochestermnbaptistchurch.org/wp-content/uploads/2023/09/LaborDaySunday.png
END:VEVENT
BEGIN:VEVENT
DTSTART;TZID=America/Chicago:20230910T043000
DTEND;TZID=America/Chicago:20230910T080000
DTSTAMP:20260425T131129
CREATED:20230527T055224Z
LAST-MODIFIED:20230527T055224Z
UID:393-1694320200-1694332800@rochestermnbaptistchurch.org
SUMMARY:Grandparents Day &  Dedication Sunday
DESCRIPTION:Celebrate Grandpa and Grandma and commit your family and children to the LORD on Dedication Sunday.  Children are an heritage of the LORD and we have an obligation to raise them for God. Save the date in September for this special service. Grandparents will be honored and we will have a cake reception following the services.
URL:https://rochestermnbaptistchurch.org/event/grandparents-day-dedication-sunday/
LOCATION:Rochester Baptist Church\, 420 11th Ave NE\, Rochester\, MN\, 55906
ATTACH;FMTTYPE=image/webp:https://rochestermnbaptistchurch.org/wp-content/uploads/2023/05/Grandparents-day.webp
END:VEVENT
BEGIN:VEVENT
DTSTART;TZID=America/Chicago:20230910T120000
DTEND;TZID=America/Chicago:20230910T140000
DTSTAMP:20260425T131129
CREATED:20230903T054201Z
LAST-MODIFIED:20230903T055017Z
UID:470-1694347200-1694354400@rochestermnbaptistchurch.org
SUMMARY:Evangelist/Author Dr. William P. Grady
DESCRIPTION:Dr William (Bill) Grady will be with us Sunday night\, Sept 10 @ 5 pm \nMonday\, September 11 @ 7 pm and Tuesday\, September 12 @ 7 pm \nHe has authored books on the defense of the King James Bible: Final Authority and What Hath God Wrought as well as many other publications.  Dr Grady is engaging\, interesting\, thought provoking and challenging. Please Join us!
URL:https://rochestermnbaptistchurch.org/event/evangelist-author-william-p-grady/
ATTACH;FMTTYPE=image/jpeg:https://rochestermnbaptistchurch.org/wp-content/uploads/2023/09/Bill-Grady.jpeg
END:VEVENT
BEGIN:VEVENT
DTSTART;TZID=America/Chicago:20230911T140000
DTEND;TZID=America/Chicago:20230911T160000
DTSTAMP:20260425T131129
CREATED:20230903T054919Z
LAST-MODIFIED:20230903T054919Z
UID:474-1694440800-1694448000@rochestermnbaptistchurch.org
SUMMARY:Evangelist/Author Dr. William P. Grady
DESCRIPTION:Please join us for continued REVIVAL with Dr. Bill Grady. \nMonday\, September 11 @ 7 pm and Tuesday\, September 12 @ 7 pm \nHe has authored books on the defense of the King James Bible: Final Authority and What Hath God Wrought as well as many other publications.  Dr Grady is engaging\, interesting\, thought provoking and challenging. Please Join us!
URL:https://rochestermnbaptistchurch.org/event/evangelist-author-dr-william-p-grady/
LOCATION:Rochester Baptist Church\, 420 11th Ave NE\, Rochester\, MN\, 55906
ATTACH;FMTTYPE=image/jpeg:https://rochestermnbaptistchurch.org/wp-content/uploads/2023/09/Bill-Grady.jpeg
END:VEVENT
BEGIN:VEVENT
DTSTART;TZID=America/Chicago:20230912T140000
DTEND;TZID=America/Chicago:20230912T160000
DTSTAMP:20260425T131129
CREATED:20230903T055213Z
LAST-MODIFIED:20230903T055353Z
UID:477-1694527200-1694534400@rochestermnbaptistchurch.org
SUMMARY:Evangelist/Author Dr. William P. Grady
DESCRIPTION:Don’t miss our LAST NIGHT of REVIVAL with Dr. Bill Grady. \nTuesday\, September 12 @ 7 pm \nHe has authored books on the defense of the King James Bible: Final Authority and What Hath God Wrought as well as many other publications.  Dr Grady is engaging\, interesting\, thought provoking and challenging. Please Join us! \n \n 
URL:https://rochestermnbaptistchurch.org/event/evangelist-author-dr-william-p-grady-2/
LOCATION:Rochester Baptist Church\, 420 11th Ave NE\, Rochester\, MN\, 55906
ATTACH;FMTTYPE=image/jpeg:https://rochestermnbaptistchurch.org/wp-content/uploads/2023/09/Bill-Grady.jpeg
END:VEVENT
BEGIN:VEVENT
DTSTART;TZID=America/Chicago:20230913T140000
DTEND;TZID=America/Chicago:20230913T150000
DTSTAMP:20260425T131129
CREATED:20230903T061501Z
LAST-MODIFIED:20230903T061501Z
UID:483-1694613600-1694617200@rochestermnbaptistchurch.org
SUMMARY:No-Mid Week Wednesday night service\, September 13th
DESCRIPTION:Due to the Revival meetings Sunday night through Tuesday night with Dr. Bill Grady\, we will not have regular Wednesday night services on September 13th\, but will resume them on Wednesday\, September 20th. Please catch any services you missed on YOUTUBE.
URL:https://rochestermnbaptistchurch.org/event/no-mid-week-wednesday-night-service-september-13th/
ATTACH;FMTTYPE=image/jpeg:https://rochestermnbaptistchurch.org/wp-content/uploads/2023/09/service-time-change-1.jpeg
END:VEVENT
BEGIN:VEVENT
DTSTART;TZID=America/Chicago:20230917T060000
DTEND;TZID=America/Chicago:20230917T073000
DTSTAMP:20260425T131129
CREATED:20230903T062933Z
LAST-MODIFIED:20230903T062933Z
UID:489-1694930400-1694935800@rochestermnbaptistchurch.org
SUMMARY:Lord's Table Observed
DESCRIPTION:Please join us as we remember the Lord’s broken body and shed blood. This is a time to examine ourselves and remember the Lord’s sacrifice for us!
URL:https://rochestermnbaptistchurch.org/event/lords-table-observed/
LOCATION:Rochester Baptist Church\, 420 11th Ave NE\, Rochester\, MN\, 55906
ATTACH;FMTTYPE=image/png:https://rochestermnbaptistchurch.org/wp-content/uploads/2023/09/lords-supper-1-400px.png
END:VEVENT
BEGIN:VEVENT
DTSTART;TZID=America/Chicago:20230925T130000
DTEND;TZID=America/Chicago:20230925T150000
DTSTAMP:20260425T131129
CREATED:20230903T064046Z
LAST-MODIFIED:20230903T064046Z
UID:494-1695646800-1695654000@rochestermnbaptistchurch.org
SUMMARY:Ladies Kitchen Table Bible Study
DESCRIPTION:Hey Ladies: Join us for the Kitchen Table Bible Study around the table at Mrs. Noonan’s house. We are studying the HOME and this month’s topic is  ISOLATION. Feeling isolated or punishing others with isolation is a dangerous thing in the Christian life.
URL:https://rochestermnbaptistchurch.org/event/ladies-kitchen-table-bible-study/
LOCATION:Noonan Home
ATTACH;FMTTYPE=image/jpeg:https://rochestermnbaptistchurch.org/wp-content/uploads/2023/09/Lady-bible-study.jpeg
END:VEVENT
BEGIN:VEVENT
DTSTART;TZID=America/Chicago:20230928T053000
DTEND;TZID=America/Chicago:20230928T063000
DTSTAMP:20260425T131129
CREATED:20230919T053612Z
LAST-MODIFIED:20230919T054318Z
UID:524-1695879000-1695882600@rochestermnbaptistchurch.org
SUMMARY:Ladies Far Above Rubies Bible Fellowship
DESCRIPTION:Hello Ladies\, Hope you can join us\, Thursday\, September 28th at RBC @ 1030 a.m. We will be studying the character of Ruth and Esther! Bring your favorite beverage and let’s dig into the Bible!
URL:https://rochestermnbaptistchurch.org/event/ladies-far-above-rubies-bible-fellowship-rochester-minnesota/
LOCATION:Rochester Baptist Church\, 420 11th Ave NE\, Rochester\, MN\, 55906
ATTACH;FMTTYPE=image/jpeg:https://rochestermnbaptistchurch.org/wp-content/uploads/2023/09/Far-above-rubies.jpeg
END:VEVENT
END:VCALENDAR