BEGIN:VCALENDAR
VERSION:2.0
PRODID:-//Rochester Baptist Church - ECPv6.15.20//NONSGML v1.0//EN
CALSCALE:GREGORIAN
METHOD:PUBLISH
X-WR-CALNAME:Rochester Baptist Church
X-ORIGINAL-URL:https://rochestermnbaptistchurch.org
X-WR-CALDESC:Events for Rochester Baptist Church
REFRESH-INTERVAL;VALUE=DURATION:PT1H
X-Robots-Tag:noindex
X-PUBLISHED-TTL:PT1H
BEGIN:VTIMEZONE
TZID:America/Chicago
BEGIN:DAYLIGHT
TZOFFSETFROM:-0600
TZOFFSETTO:-0500
TZNAME:CDT
DTSTART:20220313T080000
END:DAYLIGHT
BEGIN:STANDARD
TZOFFSETFROM:-0500
TZOFFSETTO:-0600
TZNAME:CST
DTSTART:20221106T070000
END:STANDARD
BEGIN:DAYLIGHT
TZOFFSETFROM:-0600
TZOFFSETTO:-0500
TZNAME:CDT
DTSTART:20230312T080000
END:DAYLIGHT
BEGIN:STANDARD
TZOFFSETFROM:-0500
TZOFFSETTO:-0600
TZNAME:CST
DTSTART:20231105T070000
END:STANDARD
BEGIN:DAYLIGHT
TZOFFSETFROM:-0600
TZOFFSETTO:-0500
TZNAME:CDT
DTSTART:20240310T080000
END:DAYLIGHT
BEGIN:STANDARD
TZOFFSETFROM:-0500
TZOFFSETTO:-0600
TZNAME:CST
DTSTART:20241103T070000
END:STANDARD
END:VTIMEZONE
BEGIN:VEVENT
DTSTART;TZID=America/Chicago:20230514T053000
DTEND;TZID=America/Chicago:20230514T073000
DTSTAMP:20260425T062712
CREATED:20230425T055952Z
LAST-MODIFIED:20230425T055952Z
UID:330-1684042200-1684049400@rochestermnbaptistchurch.org
SUMMARY:Join us for Mother's Day!
DESCRIPTION:Please join us for a Mother’s Day Service & Coffee Bar beginning @ 10:30 a.m. \nFlower Service at 11 a.m. Nursery provided \nEach mother will receive a flower to kick off her garden or outdoor planter. Mom’s will also receive a small gift.  No Sunday school services today.
URL:https://rochestermnbaptistchurch.org/event/join-us-for-mothers-day/
ATTACH;FMTTYPE=image/jpeg:https://rochestermnbaptistchurch.org/wp-content/uploads/2023/04/150726.jpeg
END:VEVENT
BEGIN:VEVENT
DTSTART;TZID=America/Chicago:20230429T070000
DTEND;TZID=America/Chicago:20230429T090000
DTSTAMP:20260425T062712
CREATED:20230410T054721Z
LAST-MODIFIED:20230410T055216Z
UID:274-1682751600-1682758800@rochestermnbaptistchurch.org
SUMMARY:RBC Prayer Breakfast-Building Repair Meeting
DESCRIPTION:Please Join us Saturday\, April 29th at 12 noon in fellowship hall as we meet with Eric Joss of the Master-Craftsmen Ministry. \nWe will discuss the needed repairs to our building & develop a future plan. \nEveryone is invited.  Please bring a hot breakfast item to share.  A nursery is available for mom’s to use that day.
URL:https://rochestermnbaptistchurch.org/event/rbc-prayer-breakfast-building-repair-meeting/
LOCATION:Rochester Baptist Church\, 420 11th Ave NE\, Rochester\, MN\, 55906
ATTACH;FMTTYPE=image/jpeg:https://rochestermnbaptistchurch.org/wp-content/uploads/2023/04/Joss-USA.jpeg
END:VEVENT
BEGIN:VEVENT
DTSTART;TZID=America/Chicago:20230409T043000
DTEND;TZID=America/Chicago:20230409T073000
DTSTAMP:20260425T062712
CREATED:20230403T025958Z
LAST-MODIFIED:20230404T025523Z
UID:199-1681014600-1681025400@rochestermnbaptistchurch.org
SUMMARY:Resurrection Sunday
DESCRIPTION:Join us at RBC\, this  Sunday!\nBreakfast @ 930 a.m.\nServices at:\n10 a.m.\n11 a.m.
URL:https://rochestermnbaptistchurch.org/event/resurrection-sunday/
LOCATION:Rochester Baptist Church\, 420 11th Ave NE\, Rochester\, MN\, 55906
END:VEVENT
END:VCALENDAR