BEGIN:VCALENDAR
VERSION:2.0
PRODID:-//Rochester Baptist Church - ECPv6.15.20//NONSGML v1.0//EN
CALSCALE:GREGORIAN
METHOD:PUBLISH
X-WR-CALNAME:Rochester Baptist Church
X-ORIGINAL-URL:https://rochestermnbaptistchurch.org
X-WR-CALDESC:Events for Rochester Baptist Church
REFRESH-INTERVAL;VALUE=DURATION:PT1H
X-Robots-Tag:noindex
X-PUBLISHED-TTL:PT1H
BEGIN:VTIMEZONE
TZID:America/Chicago
BEGIN:DAYLIGHT
TZOFFSETFROM:-0600
TZOFFSETTO:-0500
TZNAME:CDT
DTSTART:20250309T080000
END:DAYLIGHT
BEGIN:STANDARD
TZOFFSETFROM:-0500
TZOFFSETTO:-0600
TZNAME:CST
DTSTART:20251102T070000
END:STANDARD
BEGIN:DAYLIGHT
TZOFFSETFROM:-0600
TZOFFSETTO:-0500
TZNAME:CDT
DTSTART:20260308T080000
END:DAYLIGHT
BEGIN:STANDARD
TZOFFSETFROM:-0500
TZOFFSETTO:-0600
TZNAME:CST
DTSTART:20261101T070000
END:STANDARD
BEGIN:DAYLIGHT
TZOFFSETFROM:-0600
TZOFFSETTO:-0500
TZNAME:CDT
DTSTART:20270314T080000
END:DAYLIGHT
BEGIN:STANDARD
TZOFFSETFROM:-0500
TZOFFSETTO:-0600
TZNAME:CST
DTSTART:20271107T070000
END:STANDARD
END:VTIMEZONE
BEGIN:VEVENT
DTSTART;TZID=America/Chicago:20260531T100000
DTEND;TZID=America/Chicago:20260531T123000
DTSTAMP:20260423T192203
CREATED:20260316T215157Z
LAST-MODIFIED:20260316T215157Z
UID:2253-1780221600-1780230600@rochestermnbaptistchurch.org
SUMMARY:Revival Week
DESCRIPTION:Save the Date for Revival Week – Sunday May 31 through Wednesday\, June 3 with Evangelist Tim Booth. Brother Booth preaches inspirational and challenging messages to encourage your walk with the LORD. We will meet Sunday morning and nightly on Monday\, Tuesday\, and Wednesday.
URL:https://rochestermnbaptistchurch.org/event/revival-week-revival-starts-with-me/
LOCATION:Rochester Baptist Church\, 420 11th Ave NE\, Rochester\, MN\, 55906
ATTACH;FMTTYPE=image/webp:https://rochestermnbaptistchurch.org/wp-content/uploads/2026/03/RevivalMeetings1.jpg.webp
END:VEVENT
END:VCALENDAR