BEGIN:VCALENDAR
VERSION:2.0
PRODID:-//Rochester Baptist Church - ECPv6.15.20//NONSGML v1.0//EN
CALSCALE:GREGORIAN
METHOD:PUBLISH
X-WR-CALNAME:Rochester Baptist Church
X-ORIGINAL-URL:https://rochestermnbaptistchurch.org
X-WR-CALDESC:Events for Rochester Baptist Church
REFRESH-INTERVAL;VALUE=DURATION:PT1H
X-Robots-Tag:noindex
X-PUBLISHED-TTL:PT1H
BEGIN:VTIMEZONE
TZID:America/Chicago
BEGIN:DAYLIGHT
TZOFFSETFROM:-0600
TZOFFSETTO:-0500
TZNAME:CDT
DTSTART:20240310T080000
END:DAYLIGHT
BEGIN:STANDARD
TZOFFSETFROM:-0500
TZOFFSETTO:-0600
TZNAME:CST
DTSTART:20241103T070000
END:STANDARD
BEGIN:DAYLIGHT
TZOFFSETFROM:-0600
TZOFFSETTO:-0500
TZNAME:CDT
DTSTART:20250309T080000
END:DAYLIGHT
BEGIN:STANDARD
TZOFFSETFROM:-0500
TZOFFSETTO:-0600
TZNAME:CST
DTSTART:20251102T070000
END:STANDARD
BEGIN:DAYLIGHT
TZOFFSETFROM:-0600
TZOFFSETTO:-0500
TZNAME:CDT
DTSTART:20260308T080000
END:DAYLIGHT
BEGIN:STANDARD
TZOFFSETFROM:-0500
TZOFFSETTO:-0600
TZNAME:CST
DTSTART:20261101T070000
END:STANDARD
BEGIN:DAYLIGHT
TZOFFSETFROM:-0600
TZOFFSETTO:-0500
TZNAME:CDT
DTSTART:20270314T080000
END:DAYLIGHT
BEGIN:STANDARD
TZOFFSETFROM:-0500
TZOFFSETTO:-0600
TZNAME:CST
DTSTART:20271107T070000
END:STANDARD
END:VTIMEZONE
BEGIN:VEVENT
DTSTART;TZID=America/Chicago:20260323T153000
DTEND;TZID=America/Chicago:20260323T180000
DTSTAMP:20260423T191410
CREATED:20260317T002644Z
LAST-MODIFIED:20260317T152832Z
UID:2259-1774279800-1774288800@rochestermnbaptistchurch.org
SUMMARY:Senior Saint Evening Out Age 60+
DESCRIPTION:Hello Special Senior Saints\, \nAll those 60+ are invited to the Noonan home for a time of food\, fellowship and games. We will meet at the Noonan’s from 3:30 to 6 p.m. Please bring an appetizer to share. Slider sandwiches\, ice tea\, water and coffee provided! Hope to see you there.
URL:https://rochestermnbaptistchurch.org/event/senior-saint-evening-out-age-60/
LOCATION:Noonan Home
ATTACH;FMTTYPE=image/jpeg:https://rochestermnbaptistchurch.org/wp-content/uploads/2026/03/senior-saints-1.jpeg
END:VEVENT
BEGIN:VEVENT
DTSTART;TZID=America/Chicago:20260221T130000
DTEND;TZID=America/Chicago:20260221T150000
DTSTAMP:20260423T191410
CREATED:20260131T013006Z
LAST-MODIFIED:20260131T013240Z
UID:2234-1771678800-1771686000@rochestermnbaptistchurch.org
SUMMARY:Youth Activity Day!
DESCRIPTION:Hello Young people!  Join us for some Nintendo and Nachos! Meet at the church on Saturday\, February 21st. Youth activity will follow the morning Outreach Ministry.
URL:https://rochestermnbaptistchurch.org/event/youth-activity-day/
LOCATION:Rochester Baptist Church\, 420 11th Ave NE\, Rochester\, MN\, 55906
ATTACH;FMTTYPE=image/jpeg:https://rochestermnbaptistchurch.org/wp-content/uploads/2023/04/youth.jpeg
END:VEVENT
BEGIN:VEVENT
DTSTART;TZID=America/Chicago:20260208T095000
DTEND;TZID=America/Chicago:20260208T120000
DTSTAMP:20260423T191410
CREATED:20260130T220321Z
LAST-MODIFIED:20260130T220355Z
UID:2218-1770544200-1770552000@rochestermnbaptistchurch.org
SUMMARY:Valentine Breakfast Buffet
DESCRIPTION:Join us for a Valentine Breakfast Buffet from 9:50 to 10:45 a.m. We will not have Sunday School lessons today. A sign up sheet is available for breakfast items. Visitors are welcome and nothing is required to attend. You are our special guest!! We LOVE because CHRIST first LOVED us!
URL:https://rochestermnbaptistchurch.org/event/valentine-breakfast-buffet/
LOCATION:Rochester Baptist Church\, 420 11th Ave NE\, Rochester\, MN\, 55906
ATTACH;FMTTYPE=image/webp:https://rochestermnbaptistchurch.org/wp-content/uploads/2026/01/Valentines-Breakfast.V.words_1-optimized.jpg-e1769810450398.webp
END:VEVENT
BEGIN:VEVENT
DTSTART;TZID=America/Chicago:20260117T130000
DTEND;TZID=America/Chicago:20260117T153000
DTSTAMP:20260423T191410
CREATED:20260106T203916Z
LAST-MODIFIED:20260111T040958Z
UID:2193-1768654800-1768663800@rochestermnbaptistchurch.org
SUMMARY:Church-Wide Dine-Out Day!
DESCRIPTION:Join us for a fun day out…Anyone 18 and up is invited to attend. Hope to see you there. We will meet for lunch at Twigs Restaurant and Grill on Saturday\, January 17th. 1:00 p.m. in the afternoon. Twigs has a Gluten Free menu option available as well. \n \n 
URL:https://rochestermnbaptistchurch.org/event/church-wide-dine-out-day/
LOCATION:Twigs Restaurant\, 401 6th St SW\, Rochester\, 55902\, United States
ATTACH;FMTTYPE=image/webp:https://rochestermnbaptistchurch.org/wp-content/uploads/2026/01/dine-out-restaurant-logo-clean-trendy-combination-crockery-items-dining-vector-graphic-78257394.jpg.webp
END:VEVENT
BEGIN:VEVENT
DTSTART;VALUE=DATE:20260101
DTEND;VALUE=DATE:20260105
DTSTAMP:20260423T191410
CREATED:20251107T022745Z
LAST-MODIFIED:20251120T183215Z
UID:2146-1767250800-1767509999@rochestermnbaptistchurch.org
SUMMARY:Youth Rally in Oak Creek\, Wisconsin
DESCRIPTION:Hello young people: We are planning to attend a Youth Conference at the Faith Baptist Church of Greater Milwaukee\, in Oak Creek\, WI.  The base event cost is $25 per person. However\, there will be additional expenses for travel to Milwaukee and possibly for lodging.  The $25 will include: entrance to the main event and any vocal/athletic competitions\, a Youth Rally t -shirt\, dinner on Thursday night and lunch on Friday. Costs for additional meals/snacks and travel expenses will be determined in the coming weeks as well as lodging. A parental permission slip is required to travel. Please start saving and planning\, if you would like to take part in this activity. Please note: The event begins at 12 noon on January 1st which is New Year’s Day.
URL:https://rochestermnbaptistchurch.org/event/winter-youth-rally/
LOCATION:Faith Baptist Church\, 8519 South 13th Street\, Oak Creek\, WI\, 53154
ATTACH;FMTTYPE=image/webp:https://rochestermnbaptistchurch.org/wp-content/uploads/2025/11/YouthRallyimage.png.webp
END:VEVENT
BEGIN:VEVENT
DTSTART;TZID=America/Chicago:20251230T190000
DTEND;TZID=America/Chicago:20251230T203000
DTSTAMP:20260423T191410
CREATED:20251125T010953Z
LAST-MODIFIED:20251125T010953Z
UID:2180-1767121200-1767126600@rochestermnbaptistchurch.org
SUMMARY:Tacky Sweater/Shirt Family Fun Night
DESCRIPTION:Join us for Family Fun night! TUESDAY\, DECEMBER 30th. Pizza\, appetizers\, games\, prizes and a challenge from God’s Word for the New Year! Visitors are welcome. Wear your silly holiday sweater or shirt. Dress is modest/casual.
URL:https://rochestermnbaptistchurch.org/event/tacky-sweater-shirt-family-fun-night/
LOCATION:Rochester Baptist Church\, 420 11th Ave NE\, Rochester\, MN\, 55906
ATTACH;FMTTYPE=image/png:https://rochestermnbaptistchurch.org/wp-content/uploads/2025/11/Tacky_Sweater-e1764032547821.png
END:VEVENT
BEGIN:VEVENT
DTSTART;TZID=America/Chicago:20251223T190000
DTEND;TZID=America/Chicago:20251223T200000
DTSTAMP:20260423T191410
CREATED:20251101T021044Z
LAST-MODIFIED:20251223T172556Z
UID:2143-1766516400-1766520000@rochestermnbaptistchurch.org
SUMMARY:Christmas Candlelight Service
DESCRIPTION:Join us for a beautiful night of praise and fellowship as we celebrate the Lord’s Birthday. We will have candlelight singing\, a challenge from the Christmas story\, birthday cake for Jesus\, fellowship and fun. Invite a friend\, loved one or neighbor.
URL:https://rochestermnbaptistchurch.org/event/christmas-candlelight-service/
LOCATION:Rochester Baptist Church\, 420 11th Ave NE\, Rochester\, MN\, 55906
ATTACH;FMTTYPE=image/jpeg:https://rochestermnbaptistchurch.org/wp-content/uploads/2025/10/Candlelight_Service_LSM-HD.jpeg
END:VEVENT
BEGIN:VEVENT
DTSTART;TZID=America/Chicago:20251221T100000
DTEND;TZID=America/Chicago:20251221T123000
DTSTAMP:20260423T191410
CREATED:20251125T003111Z
LAST-MODIFIED:20251125T003111Z
UID:2170-1766311200-1766320200@rochestermnbaptistchurch.org
SUMMARY:Christmas Breakfast and Waffle Bar Day
DESCRIPTION:We will enjoy a church-wide breakfast with egg bakes\, and a first time ever WAFFLE BAR. YUM!!  Visitors are welcome. We will begin breakfast at 10 a.m. Sunday church service will begin at 11 a.m. There will be no formal Sunday School hour lesson today. RBC members\, please see sign-up sheet.
URL:https://rochestermnbaptistchurch.org/event/christmas-breakfast-and-waffle-bar-day/
LOCATION:Rochester Baptist Church\, 420 11th Ave NE\, Rochester\, MN\, 55906
ATTACH;FMTTYPE=image/jpeg:https://rochestermnbaptistchurch.org/wp-content/uploads/2025/11/2023_church-xmas-breakfast_712-SQUARE-e1764030591271.jpeg
END:VEVENT
BEGIN:VEVENT
DTSTART;TZID=America/Chicago:20251220T103000
DTEND;TZID=America/Chicago:20251220T103000
DTSTAMP:20260423T191410
CREATED:20251125T001637Z
LAST-MODIFIED:20251125T003335Z
UID:2166-1766226600-1766226600@rochestermnbaptistchurch.org
SUMMARY:Christmas Outreach at High Pointe Senior Living Apartments
DESCRIPTION:RBC will be enjoying Christmas carols\, treats\, testimonies and memories with the Senior Citizens at High Pointe Living Facility. We will meet at the HPII community room from 1030 to 1230.
URL:https://rochestermnbaptistchurch.org/event/christmas-outreach-at-high-pointe-senior-living-apartments/
LOCATION:High Pointe Senior Community\, 1830 High Pointe LN NW\, Rochester\, MN\, 55901
ATTACH;FMTTYPE=image/png:https://rochestermnbaptistchurch.org/wp-content/uploads/2025/11/unnamed.png
END:VEVENT
BEGIN:VEVENT
DTSTART;TZID=America/Chicago:20251212T120000
DTEND;TZID=America/Chicago:20251212T140000
DTSTAMP:20260423T191410
CREATED:20251125T005134Z
LAST-MODIFIED:20251125T005134Z
UID:2175-1765540800-1765548000@rochestermnbaptistchurch.org
SUMMARY:Ladies Kitchen Table Christmas Event
DESCRIPTION:Hi ladies! We will be celebrating the LORD with Chapters 1 and 2 of Matthew for our Bible study. We will meet this month at the High Pointe Senior Living Apartments. All ladies are welcome. Please bring a holiday treat to share. Coffee provided. Also\, bring an UP-CYCLED wrapped gift from home.  Just something nice that you are ready to part with\, that another lady might enjoy. This way\, we use what we have and save a little holiday cash. Remember\, there’s always room for YOU at the Kitchen Table!
URL:https://rochestermnbaptistchurch.org/event/ladies-kitchen-table-christmas-event/
LOCATION:High Pointe Senior Community\, 1830 High Pointe LN NW\, Rochester\, MN\, 55901
ATTACH;FMTTYPE=image/webp:https://rochestermnbaptistchurch.org/wp-content/uploads/2025/11/christmas-studies-scaled.webp
END:VEVENT
BEGIN:VEVENT
DTSTART;TZID=America/Chicago:20251125T190000
DTEND;TZID=America/Chicago:20251125T203000
DTSTAMP:20260423T191410
CREATED:20251101T010434Z
LAST-MODIFIED:20251101T010434Z
UID:2128-1764097200-1764102600@rochestermnbaptistchurch.org
SUMMARY:Praise and Pie Night
DESCRIPTION:What could be better than praising the LORD and sharing Thanksgiving pies?!?! Hope to see you at our Praise and Pie Night. All are welcome. You DO NOT need to bring a pie to attend\, but try and prepare your heart to share a PRAISE for something the GOOD LORD has done for you! Taste and see that the LORD is GOOD!
URL:https://rochestermnbaptistchurch.org/event/praise-and-pie-night/
LOCATION:Rochester Baptist Church\, 420 11th Ave NE\, Rochester\, MN\, 55906
ATTACH;FMTTYPE=image/png:https://rochestermnbaptistchurch.org/wp-content/uploads/2025/10/praise-and-pie.png
END:VEVENT
BEGIN:VEVENT
DTSTART;TZID=America/Chicago:20251122T130000
DTEND;TZID=America/Chicago:20251122T153000
DTSTAMP:20260423T191410
CREATED:20251010T231844Z
LAST-MODIFIED:20251113T222039Z
UID:2117-1763816400-1763825400@rochestermnbaptistchurch.org
SUMMARY:Teen Activity Day!
DESCRIPTION:Where’s Waldo detective activity at Apache Mall. Come and find church members hiding in plain site! Pizza Party to follow. Cost is $5 \n \n \n  \n 
URL:https://rochestermnbaptistchurch.org/event/teen-activity-wheres-waldo-more-pizza/
LOCATION:Rochester Baptist Church\, 420 11th Ave NE\, Rochester\, MN\, 55906
ATTACH;FMTTYPE=image/webp:https://rochestermnbaptistchurch.org/wp-content/uploads/2025/10/wheres-waldo.jpg.webp
END:VEVENT
BEGIN:VEVENT
DTSTART;TZID=America/Chicago:20251122T103000
DTEND;TZID=America/Chicago:20251122T130000
DTSTAMP:20260423T191410
CREATED:20251101T014730Z
LAST-MODIFIED:20251101T014730Z
UID:2138-1763807400-1763816400@rochestermnbaptistchurch.org
SUMMARY:Church-Wide Christmas Decorating.
DESCRIPTION:Bring your creativity and talent and let’s decorate for Christmas! See you there…Hot chocolate\, coffee and snacks will be available\, too!! We are so blessed to celebrate our SAVIOUR at this time of year!
URL:https://rochestermnbaptistchurch.org/event/church-wide-christmas-decorating/
LOCATION:Rochester Baptist Church\, 420 11th Ave NE\, Rochester\, MN\, 55906
ATTACH;FMTTYPE=image/jpeg:https://rochestermnbaptistchurch.org/wp-content/uploads/2025/10/Christmas-Decorating-2020-slide.jpeg
END:VEVENT
BEGIN:VEVENT
DTSTART;TZID=America/Chicago:20251029T183000
DTEND;TZID=America/Chicago:20251029T203000
DTSTAMP:20260423T191410
CREATED:20251010T170752Z
LAST-MODIFIED:20251010T170752Z
UID:2113-1761762600-1761769800@rochestermnbaptistchurch.org
SUMMARY:Fall Harvest Party
DESCRIPTION:Join us for Harvest Family Fun Night – Wednesday night\, Oct 29th for a caramel apple bar\, snacks\, Bible Trivia from the Daniel and the Lion’s Den story\, prizes and fellowship. 6:30 -830 p.m. start time. Trivia is from Daniel – chapter 6.
URL:https://rochestermnbaptistchurch.org/event/fall-harvest-party/
LOCATION:Rochester Baptist Church\, 420 11th Ave NE\, Rochester\, MN\, 55906
ATTACH;FMTTYPE=image/png:https://rochestermnbaptistchurch.org/wp-content/uploads/2025/10/Harvest-Party-1024x576-1.png
END:VEVENT
BEGIN:VEVENT
DTSTART;TZID=America/Chicago:20251019T091500
DTEND;TZID=America/Chicago:20251019T133000
DTSTAMP:20260423T191410
CREATED:20251010T164742Z
LAST-MODIFIED:20251010T164742Z
UID:2103-1760865300-1760880600@rochestermnbaptistchurch.org
SUMMARY:Pastor Appreciation Breakfast
DESCRIPTION:Hello Friends\, \nWe will be celebrating Clergy Appreciation Month with a breakfast beginning at 915 a.m. today! \nIf you attend RBC\, see the sign up sheets at church. All visitors are welcome\, entrees include breakfast skillets\, biscuits and gravy\, breakfast burritos…JUST a few of pastor Noonan’s FAVORITE THINGS! Join us for food\, fellowship and comfort from the WORD of GOD.
URL:https://rochestermnbaptistchurch.org/event/pastor-appreciation-breakfast/
LOCATION:Rochester Baptist Church\, 420 11th Ave NE\, Rochester\, MN\, 55906
ATTACH;FMTTYPE=image/png:https://rochestermnbaptistchurch.org/wp-content/uploads/2025/10/PB_Crop.png
END:VEVENT
BEGIN:VEVENT
DTSTART;TZID=America/Chicago:20251012T100000
DTEND;TZID=America/Chicago:20251012T130000
DTSTAMP:20260423T191410
CREATED:20251010T165540Z
LAST-MODIFIED:20251010T165540Z
UID:2111-1760263200-1760274000@rochestermnbaptistchurch.org
SUMMARY:Guest Speaker - Ron Webb of Faith Baptist Church -  Oak Creek\, WI
DESCRIPTION:
URL:https://rochestermnbaptistchurch.org/event/guest-speaker-ron-webb-of-faith-baptist-church-oak-creek-wi/
LOCATION:Rochester Baptist Church\, 420 11th Ave NE\, Rochester\, MN\, 55906
ATTACH;FMTTYPE=image/png:https://rochestermnbaptistchurch.org/wp-content/uploads/2023/04/guest_preacher.png
END:VEVENT
BEGIN:VEVENT
DTSTART;TZID=America/Chicago:20250914T100000
DTEND;TZID=America/Chicago:20250914T130000
DTSTAMP:20260423T191410
CREATED:20250904T181702Z
LAST-MODIFIED:20250904T181736Z
UID:2089-1757844000-1757854800@rochestermnbaptistchurch.org
SUMMARY:Baptism Sunday
DESCRIPTION:“And they that GLADLY received his WORD were baptized…” Join us for Baptism Sunday.
URL:https://rochestermnbaptistchurch.org/event/baptism-sunday/
LOCATION:Rochester Baptist Church\, 420 11th Ave NE\, Rochester\, MN\, 55906
ATTACH;FMTTYPE=image/jpeg:https://rochestermnbaptistchurch.org/wp-content/uploads/2025/09/baptism_sunday.jpeg
END:VEVENT
BEGIN:VEVENT
DTSTART;TZID=America/Chicago:20250907T100000
DTEND;TZID=America/Chicago:20250907T130000
DTSTAMP:20260423T191410
CREATED:20250904T175946Z
LAST-MODIFIED:20250904T175946Z
UID:2082-1757239200-1757250000@rochestermnbaptistchurch.org
SUMMARY:Happy National Grandparent's Day!
DESCRIPTION:Hello Grandpa and Grandma\, you are special and we want to celebrate YOU this Sunday at RBC. The Kingdom Kids Sunday School Class will be singing\, we have a small gift prepared for you and right after church we will serve root-beer floats! Hope to see you there. RBC is a place where everybody is somebody and Jesus Christ is LORD! Come and join us!
URL:https://rochestermnbaptistchurch.org/event/happy-national-grandparents-day/
LOCATION:Rochester Baptist Church\, 420 11th Ave NE\, Rochester\, MN\, 55906
ATTACH;FMTTYPE=image/jpeg:https://rochestermnbaptistchurch.org/wp-content/uploads/2025/09/71DCENYxVCL.jpeg
END:VEVENT
BEGIN:VEVENT
DTSTART;TZID=America/Chicago:20250907T100000
DTEND;TZID=America/Chicago:20250907T130000
DTSTAMP:20260423T191410
CREATED:20250904T174822Z
LAST-MODIFIED:20250904T180118Z
UID:2078-1757239200-1757250000@rochestermnbaptistchurch.org
SUMMARY:Happy Grandparents Day and Back to School Sunday
DESCRIPTION:Happy Grandparents day to all the Grandparents out there. Come and enjoy a root-beer float and receive a small gift from our Kingdom Kids Sunday School class. You are special and we look forward to celebrating with you!! \nBack to School Root Beer Floats for Grandpa\, Grandma and all the kids!!! Make it a great year!!!
URL:https://rochestermnbaptistchurch.org/event/happy-grandparents-day-and-back-to-school-sunday/
LOCATION:Rochester Baptist Church\, 420 11th Ave NE\, Rochester\, MN\, 55906
ATTACH;FMTTYPE=image/jpeg:https://rochestermnbaptistchurch.org/wp-content/uploads/2025/09/Retro-Root-Beer-Floats-Metal-Sign__73386.jpeg
END:VEVENT
BEGIN:VEVENT
DTSTART;TZID=America/Chicago:20250822T120000
DTEND;TZID=America/Chicago:20250822T140000
DTSTAMP:20260423T191410
CREATED:20250709T024804Z
LAST-MODIFIED:20250808T015302Z
UID:2046-1755864000-1755871200@rochestermnbaptistchurch.org
SUMMARY:Ladies Kitchen Table Bible Study
DESCRIPTION:Hi Ladies\, we are reading the book\, Having a Mary Heart in a Martha World. \nAugust is Chapter 3. Be sure and save the date. Whether or not you are reading the book\, you are welcome to participate. We share snacks\, smiles\, encouragement\, fellowship and most all blessings from the LORD…come out and join us. It’s time to stop saying\, “no\,” or  “I am afraid to go”….you can do it!!! We will see you there! We will meet at the Noonan Kitchen Table from 12 to 2 p.m. Please call for address 507.287.9771 \n \n 
URL:https://rochestermnbaptistchurch.org/event/ladies-kitchen-table-bible-study-3/
ATTACH;FMTTYPE=image/jpeg:https://rochestermnbaptistchurch.org/wp-content/uploads/2025/07/image.jpeg
END:VEVENT
BEGIN:VEVENT
DTSTART;TZID=America/Chicago:20250813T190000
DTEND;TZID=America/Chicago:20250813T210000
DTSTAMP:20260423T191410
CREATED:20250808T014722Z
LAST-MODIFIED:20250808T014722Z
UID:2060-1755111600-1755118800@rochestermnbaptistchurch.org
SUMMARY:Revival Meeting with Evangelist Tim Booth 7 p.m.
DESCRIPTION:Come and hear exciting life changing preaching. Ultimate Nachos will be served after the service! Hope to see you there. You will be glad you came. New friends\, fellowship and a spiritual challenge!
URL:https://rochestermnbaptistchurch.org/event/revival-meeting-with-evangelist-tim-booth-7-p-m-2/
LOCATION:Rochester Baptist Church\, 420 11th Ave NE\, Rochester\, MN\, 55906
ATTACH;FMTTYPE=image/jpeg:https://rochestermnbaptistchurch.org/wp-content/uploads/2025/08/Nacho-night.jpeg
END:VEVENT
BEGIN:VEVENT
DTSTART;TZID=America/Chicago:20250812T190000
DTEND;TZID=America/Chicago:20250812T203000
DTSTAMP:20260423T191410
CREATED:20250808T014035Z
LAST-MODIFIED:20250808T014035Z
UID:2055-1755025200-1755030600@rochestermnbaptistchurch.org
SUMMARY:Revival Meeting with Evangelist Tim Booth 7 p.m.
DESCRIPTION:Come and hear exciting life changing preaching. Popcorn and Peanuts will be served after the service! Hope to see you there.
URL:https://rochestermnbaptistchurch.org/event/revival-meeting-with-evangelist-tim-booth-7-p-m/
LOCATION:Rochester Baptist Church\, 420 11th Ave NE\, Rochester\, MN\, 55906
ATTACH;FMTTYPE=image/webp:https://rochestermnbaptistchurch.org/wp-content/uploads/2025/08/nordeck-6246.jpg.webp
END:VEVENT
BEGIN:VEVENT
DTSTART;TZID=America/Chicago:20250811T190000
DTEND;TZID=America/Chicago:20250811T203000
DTSTAMP:20260423T191410
CREATED:20250808T013331Z
LAST-MODIFIED:20250808T013331Z
UID:2052-1754938800-1754944200@rochestermnbaptistchurch.org
SUMMARY:Revival Meeting 7 p.m. - Evangelist Tim Booth
DESCRIPTION:Come and hear exciting life changing preaching. Slushies will be served after the service! Hope to see you there.
URL:https://rochestermnbaptistchurch.org/event/revival-meeting-7-p-m-evangelist-tim-booth/
LOCATION:Rochester Baptist Church\, 420 11th Ave NE\, Rochester\, MN\, 55906
ATTACH;FMTTYPE=image/jpeg:https://rochestermnbaptistchurch.org/wp-content/uploads/2025/08/slushy-night.jpeg
END:VEVENT
BEGIN:VEVENT
DTSTART;TZID=America/Chicago:20250810T100000
DTEND;TZID=America/Chicago:20250813T190000
DTSTAMP:20260423T191410
CREATED:20250709T023100Z
LAST-MODIFIED:20250808T020425Z
UID:2041-1754820000-1755111600@rochestermnbaptistchurch.org
SUMMARY:Celebrating 26 years of RBC with Evangelist Tim Booth
DESCRIPTION:We are grateful for what the Lord has done over the years. Come and help us celebrate with a Revival Meeting to stir our spirits in LORD. Evangelist Tim Booth will be preaching for us over the course of 4 days. He has a heart for God’s people. You will not be disappointed. \nRevival Schedule \nSunday: Dessert First Cake & coffee Fellowship 915 a.m. \nSS 10 am\, Morning service 11 am\, Church picnic at the Marx Home 5 to 8 pm \nMonday: 7 pm meeting with slushies for everyone \nTuesday: 7 pm meeting with popcorn & peanuts for everyone \nWednesday: 7 pm meeting with ultimate nachos
URL:https://rochestermnbaptistchurch.org/event/celebrating-25-years-of-rbc-with-evangelist-tim-booth/
LOCATION:Rochester Baptist Church\, 420 11th Ave NE\, Rochester\, MN\, 55906
ATTACH;FMTTYPE=image/jpeg:https://rochestermnbaptistchurch.org/wp-content/uploads/2025/07/RevivalBeginsWithUsLogo.jpeg
END:VEVENT
BEGIN:VEVENT
DTSTART;TZID=America/Chicago:20250713T103000
DTEND;TZID=America/Chicago:20250713T130000
DTSTAMP:20260423T191410
CREATED:20250705T061139Z
LAST-MODIFIED:20250705T061139Z
UID:2039-1752402600-1752411600@rochestermnbaptistchurch.org
SUMMARY:Guest Speaker\, Pastor Dean Noonan of Oak Creek\, WI
DESCRIPTION:Welcome Pastor Dean Noonan of Faith Baptist Church in Oak Creek\, WI
URL:https://rochestermnbaptistchurch.org/event/guest-speaker-pastor-dean-noonan-of-oak-creek-wi/
LOCATION:Rochester Baptist Church\, 420 11th Ave NE\, Rochester\, MN\, 55906
ATTACH;FMTTYPE=image/png:https://rochestermnbaptistchurch.org/wp-content/uploads/2023/04/guest_preacher.png
END:VEVENT
BEGIN:VEVENT
DTSTART;TZID=America/Chicago:20250706T103000
DTEND;TZID=America/Chicago:20250706T160000
DTSTAMP:20260423T191410
CREATED:20250705T060403Z
LAST-MODIFIED:20250705T060403Z
UID:2036-1751797800-1751817600@rochestermnbaptistchurch.org
SUMMARY:Patriotic Picnic Day Following Morning Service\, July 6
DESCRIPTION:Join us for a fun picnic day following the morning church service. Everyone is welcome. We are serving sloppy joes and making new friends!! Volley ball\, hopscotch\, jump ropes\, corn hole\, lemonade\, ice tea\, desserts\, fun and fellowship. See you there\, wear your red\, white\, and blue! Bring a visitor!
URL:https://rochestermnbaptistchurch.org/event/patriotic-picnic-day-following-morning-service-july-6/
LOCATION:Rochester Baptist Church\, 420 11th Ave NE\, Rochester\, MN\, 55906
ATTACH;FMTTYPE=image/webp:https://rochestermnbaptistchurch.org/wp-content/uploads/2025/07/american-memorial-day-picnic-table-burgers-flag-decorations-outdoors-concept-patriotic-celebration-family-gathering-359977893.jpg.webp
END:VEVENT
BEGIN:VEVENT
DTSTART;TZID=America/Chicago:20250620T120000
DTEND;TZID=America/Chicago:20250620T140000
DTSTAMP:20260423T191410
CREATED:20250614T191229Z
LAST-MODIFIED:20250614T191850Z
UID:2017-1750420800-1750428000@rochestermnbaptistchurch.org
SUMMARY:Ladies Kitchen Table Ministry (KTM) Bible Study-Friday
DESCRIPTION:All Ladies and high school age girls are welcome to come to KTM for a book study on “Having a Mary Heart in a Martha World.”  \nYou DO NOT have to read the book to participate in the study\, but you are free to add your input as we explore each chapter together. This week we will study chapter one. Light refreshments are served and always welcome. \nKitchen Table Ministry is a Bible Study for Ladies to collaborate and explore God’s WORD together and grow spiritually for the Master’s use.
URL:https://rochestermnbaptistchurch.org/event/ladies-kitchen-table-ministry-ktm-bible-study/
LOCATION:Rochester Baptist Church\, 420 11th Ave NE\, Rochester\, MN\, 55906
ATTACH;FMTTYPE=image/jpeg:https://rochestermnbaptistchurch.org/wp-content/uploads/2025/06/Ladie27s-Bible-Study.jpeg
END:VEVENT
BEGIN:VEVENT
DTSTART;TZID=America/Chicago:20250615T100000
DTEND;TZID=America/Chicago:20250615T130000
DTSTAMP:20260423T191410
CREATED:20250614T190211Z
LAST-MODIFIED:20250614T190211Z
UID:2015-1749981600-1749992400@rochestermnbaptistchurch.org
SUMMARY:Father's Day Feast: Sunday June 15\, 10 a.m.
DESCRIPTION:Bring Dad for a full breakfast and a special gift.
URL:https://rochestermnbaptistchurch.org/event/fathers-day-feast-sunday-june-15-10-a-m/
LOCATION:Rochester Baptist Church\, 420 11th Ave NE\, Rochester\, MN\, 55906
ATTACH;FMTTYPE=image/jpeg:https://rochestermnbaptistchurch.org/wp-content/uploads/2023/05/Fathers-Day.jpeg
END:VEVENT
BEGIN:VEVENT
DTSTART;TZID=America/Chicago:20250511T103000
DTEND;TZID=America/Chicago:20250511T123000
DTSTAMP:20260423T191410
CREATED:20250201T031257Z
LAST-MODIFIED:20250201T032035Z
UID:1920-1746959400-1746966600@rochestermnbaptistchurch.org
SUMMARY:Happy Mother's Day- No Sunday School Today
DESCRIPTION:Happy Mother’s Day to all our ladies! To give mom an extra hour of rest\, we will not have Sunday School\, today ONLY. See you at 10:15 a.m. for a Caribou Coffee Bar. All ladies are welcome! Morning Service will begin at 11 a.m. \nThere will be special gifts for all the Moms and Grandmother’s. Hope to see you there. Invite a friend.
URL:https://rochestermnbaptistchurch.org/event/happy-mothers-day-no-sunday-school-today/
LOCATION:Rochester Baptist Church\, 420 11th Ave NE\, Rochester\, MN\, 55906
ATTACH;FMTTYPE=image/jpeg:https://rochestermnbaptistchurch.org/wp-content/uploads/2025/01/happy-mothers-day-card-vector-31039613-e1738379995383.jpeg
END:VEVENT
BEGIN:VEVENT
DTSTART;TZID=America/Chicago:20250420T090000
DTEND;TZID=America/Chicago:20250420T133000
DTSTAMP:20260423T191410
CREATED:20250201T030006Z
LAST-MODIFIED:20250201T030006Z
UID:1915-1745139600-1745155800@rochestermnbaptistchurch.org
SUMMARY:Resurrection Sunday Fellowship 915 a.m.
DESCRIPTION:Join us for a Resurrection Celebration Sunday: breakfast\, coffee\, treat hunt for the kids (weather providing)\, special music\, fellowship and a powerful Bible message.
URL:https://rochestermnbaptistchurch.org/event/resurrection-sunday-fellowship-915-a-m/
LOCATION:Rochester Baptist Church\, 420 11th Ave NE\, Rochester\, MN\, 55906
ATTACH;FMTTYPE=image/jpeg:https://rochestermnbaptistchurch.org/wp-content/uploads/2025/01/2018263.jpeg
END:VEVENT
END:VCALENDAR