BEGIN:VCALENDAR
VERSION:2.0
PRODID:-//Rochester Baptist Church - ECPv6.15.20//NONSGML v1.0//EN
CALSCALE:GREGORIAN
METHOD:PUBLISH
X-WR-CALNAME:Rochester Baptist Church
X-ORIGINAL-URL:https://rochestermnbaptistchurch.org
X-WR-CALDESC:Events for Rochester Baptist Church
REFRESH-INTERVAL;VALUE=DURATION:PT1H
X-Robots-Tag:noindex
X-PUBLISHED-TTL:PT1H
BEGIN:VTIMEZONE
TZID:America/Chicago
BEGIN:DAYLIGHT
TZOFFSETFROM:-0600
TZOFFSETTO:-0500
TZNAME:CDT
DTSTART:20220313T080000
END:DAYLIGHT
BEGIN:STANDARD
TZOFFSETFROM:-0500
TZOFFSETTO:-0600
TZNAME:CST
DTSTART:20221106T070000
END:STANDARD
BEGIN:DAYLIGHT
TZOFFSETFROM:-0600
TZOFFSETTO:-0500
TZNAME:CDT
DTSTART:20230312T080000
END:DAYLIGHT
BEGIN:STANDARD
TZOFFSETFROM:-0500
TZOFFSETTO:-0600
TZNAME:CST
DTSTART:20231105T070000
END:STANDARD
BEGIN:DAYLIGHT
TZOFFSETFROM:-0600
TZOFFSETTO:-0500
TZNAME:CDT
DTSTART:20240310T080000
END:DAYLIGHT
BEGIN:STANDARD
TZOFFSETFROM:-0500
TZOFFSETTO:-0600
TZNAME:CST
DTSTART:20241103T070000
END:STANDARD
BEGIN:DAYLIGHT
TZOFFSETFROM:-0600
TZOFFSETTO:-0500
TZNAME:CDT
DTSTART:20250309T080000
END:DAYLIGHT
BEGIN:STANDARD
TZOFFSETFROM:-0500
TZOFFSETTO:-0600
TZNAME:CST
DTSTART:20251102T070000
END:STANDARD
END:VTIMEZONE
BEGIN:VEVENT
DTSTART;TZID=America/Chicago:20240825T050000
DTEND;TZID=America/Chicago:20240825T080000
DTSTAMP:20260425T102038
CREATED:20240817T224602Z
LAST-MODIFIED:20240817T224602Z
UID:1649-1724562000-1724572800@rochestermnbaptistchurch.org
SUMMARY:Sunday\, August 25\, Welcome Back and Welcome Home Sunday Service!
DESCRIPTION:Welcome Back! Come and see our newly refurbished auditorium. \nThank you: RBC members\, Master’s Craftsmen Ministry\, community friends\, many around the nation and Faith Baptist Church in Wisconsin! \nWe have been blessed working alongside each of you! \nCoffee fellowship 930 a.m. \nSunday school 10 a.m. \nSunday Morning service 11 a.m.
URL:https://rochestermnbaptistchurch.org/event/sunday-august-25-welcome-back-and-welcome-home-sunday-service/
LOCATION:Rochester Baptist Church\, 420 11th Ave NE\, Rochester\, MN\, 55906
ATTACH;FMTTYPE=image/jpeg:https://rochestermnbaptistchurch.org/wp-content/uploads/2024/08/welcome-back-to-church-animation-design-template-67eed276aa0548456fef571e212ea884_screen.jpeg
END:VEVENT
BEGIN:VEVENT
DTSTART;TZID=America/Chicago:20240818T080000
DTEND;TZID=America/Chicago:20240818T100000
DTSTAMP:20260425T102038
CREATED:20240817T222431Z
LAST-MODIFIED:20240817T223527Z
UID:1647-1723968000-1723975200@rochestermnbaptistchurch.org
SUMMARY:Sunday Service-August 18
DESCRIPTION:Sunday\, August 18 we will be meeting for the final time at Calvary Chapel Rochester. \nService time is 1 p.m. \nNursery is provided. \nThis is located 2 blocks north of the Rochester Baptist Church building. \nOn Sunday\, August 25\, we will have our first service in our newly refurbished building. We hope to see you soon! Normal service times will resume on Sunday\, August 25th.
URL:https://rochestermnbaptistchurch.org/event/sunday-service-august-18/
LOCATION:Calvary Chapel Rochester\, 814 11th Avenue NE\, Rochester\, MN\, 55906\, United States
ATTACH;FMTTYPE=image/jpeg:https://rochestermnbaptistchurch.org/wp-content/uploads/2024/04/under-construction-design-vector-5122591-e1723915602133.jpeg
END:VEVENT
BEGIN:VEVENT
DTSTART;TZID=America/Chicago:20240630T080000
DTEND;TZID=America/Chicago:20240728T080000
DTSTAMP:20260425T102038
CREATED:20240427T085803Z
LAST-MODIFIED:20240624T085052Z
UID:1278-1719734400-1722153600@rochestermnbaptistchurch.org
SUMMARY:We Are Remodeling this Summer! Please see details.
DESCRIPTION:Thank you for your patience. \nWe are renovating our roof and remodeling our auditorium \nSunday Service will be held at: Calvary Chapel-Rochester \nLocated 2 blocks north of RBC building- 814 11th Avenue NE \nSunday\, June 30-Sunday\, July 28. \nSunday Service is at 1 p.m. each Sunday Afternoon (Handicap Accessible) \nNursery provided \nWednesday night Prayer Meeting- will be held in the RBC church basement at 7 p.m. -Casual attire. Nursery Provided. \n 
URL:https://rochestermnbaptistchurch.org/event/we-are-remodeling/
LOCATION:Calvary Chapel Rochester\, 814 11th Avenue NE\, Rochester\, MN\, 55906\, United States
ATTACH;FMTTYPE=image/png:https://rochestermnbaptistchurch.org/wp-content/uploads/2024/04/Reno-pic.png
END:VEVENT
BEGIN:VEVENT
DTSTART;TZID=America/Chicago:20240519T050000
DTEND;TZID=America/Chicago:20240519T073000
DTSTAMP:20260425T102038
CREATED:20240427T081523Z
LAST-MODIFIED:20240427T090409Z
UID:1273-1716094800-1716103800@rochestermnbaptistchurch.org
SUMMARY:Guest Speaker
DESCRIPTION:Come and hear guest speaker and former faithful RBC church member: Brother Barry Pettyjohn of First Bible International. Barry has a heart for sharing God’s Word and promoting the local church.
URL:https://rochestermnbaptistchurch.org/event/guest-speaker/
LOCATION:Rochester Baptist Church\, 420 11th Ave NE\, Rochester\, MN\, 55906
ATTACH;FMTTYPE=image/png:https://rochestermnbaptistchurch.org/wp-content/uploads/2023/04/guest_preacher.png
END:VEVENT
BEGIN:VEVENT
DTSTART;TZID=America/Chicago:20240512T043000
DTEND;TZID=America/Chicago:20240512T073000
DTSTAMP:20260425T102038
CREATED:20240427T080903Z
LAST-MODIFIED:20240427T080903Z
UID:1269-1715488200-1715499000@rochestermnbaptistchurch.org
SUMMARY:Mother's Day at RBC
DESCRIPTION:Come and celebrate MOM at Rochester Baptist Church. Light breakfast/coffee bar begins at 930 a.m. Gift for mom and a garden flower! We look forward to celebrating YOU!
URL:https://rochestermnbaptistchurch.org/event/mothers-day-at-rbc/
LOCATION:Rochester Baptist Church\, 420 11th Ave NE\, Rochester\, MN\, 55906
ATTACH;FMTTYPE=image/webp:https://rochestermnbaptistchurch.org/wp-content/uploads/2024/04/69263301.cms_.webp
END:VEVENT
BEGIN:VEVENT
DTSTART;TZID=America/Chicago:20240505T043000
DTEND;TZID=America/Chicago:20240505T120000
DTSTAMP:20260425T102038
CREATED:20240301T100533Z
LAST-MODIFIED:20240301T101109Z
UID:1102-1714883400-1714910400@rochestermnbaptistchurch.org
SUMMARY:Family Friendly Creation Science Day
DESCRIPTION:Noah’s Ark and the Flood/Lobby breakfast @ 930 a.m./Trivia/Prizes/ Evening bonfire weather permitting/Solidify your Faith with Creation Science! Fun for the whole family. Looking forward to seeing YOU there! 930 am breakfast/10 am Bible fellowship/trivia/prizes/11 am morning service
URL:https://rochestermnbaptistchurch.org/event/family-friendly-creation-science/
LOCATION:Rochester Baptist Church\, 420 11th Ave NE\, Rochester\, MN\, 55906
ATTACH;FMTTYPE=image/png:https://rochestermnbaptistchurch.org/wp-content/uploads/2024/03/Brian-Lauer-Day-May-2024.png
END:VEVENT
BEGIN:VEVENT
DTSTART;TZID=America/Chicago:20240331T043000
DTEND;TZID=America/Chicago:20240331T073000
DTSTAMP:20260425T102038
CREATED:20240224T105928Z
LAST-MODIFIED:20240224T105928Z
UID:1060-1711859400-1711870200@rochestermnbaptistchurch.org
SUMMARY:Resurrection Sunday Brunch
DESCRIPTION:Hello Everyone\, \nYES! We have church on Resurrection Sunday!!! Bring the family for a Lobby Brunch at 930 a.m. with yummy foods and let’s celebrate the LORD’s resurrection! Good food\, fun fellowship\, treats for kids\, encouraging music and the TRUTH of the resurrection! See you then\, invite a friend! Nursery provided\, Sunday school brunch at 930 a.m. and morning service at 11 a.m.
URL:https://rochestermnbaptistchurch.org/event/resurrection-sunday-brunch/
LOCATION:Rochester Baptist Church\, 420 11th Ave NE\, Rochester\, MN\, 55906
ATTACH;FMTTYPE=image/jpeg:https://rochestermnbaptistchurch.org/wp-content/uploads/2024/02/easter-brunch-sf-2023-scaled.jpeg
END:VEVENT
BEGIN:VEVENT
DTSTART;TZID=America/Chicago:20240323T060000
DTEND;TZID=America/Chicago:20240323T080000
DTSTAMP:20260425T102038
CREATED:20240224T111827Z
LAST-MODIFIED:20240224T112007Z
UID:1067-1711173600-1711180800@rochestermnbaptistchurch.org
SUMMARY:Sprinkled with Love Ladies Event
DESCRIPTION:Join the ladies as we SPRINKLE one of our own with some love in preparation for her little arrival. We will meet at the Noonan home from 11 a.m. to 1 p.m. Please see Nicky with any questions\, look for the sign-up sheet and be sure to grab an information sheet on this super fun and unique event.
URL:https://rochestermnbaptistchurch.org/event/sprinkled-with-love-ladies-event/
LOCATION:Noonan Home
ATTACH;FMTTYPE=image/jpeg:https://rochestermnbaptistchurch.org/wp-content/uploads/2024/02/sprinklelogo.jpeg
END:VEVENT
BEGIN:VEVENT
DTSTART;TZID=America/Chicago:20240317T050000
DTEND;TZID=America/Chicago:20240317T080000
DTSTAMP:20260425T102038
CREATED:20240312T090849Z
LAST-MODIFIED:20240312T091021Z
UID:1150-1710651600-1710662400@rochestermnbaptistchurch.org
SUMMARY:Coffee for Christ
DESCRIPTION:Bring a Coffee Mug to exchange on Sunday\, March 17. We are raising money one cup at a time to renovate our roof and auditorium. Bring a coffee cup to give away and you also get to take a cup home. Fill your cup with change or an offering over the next 4 weeks and then we will bring it back and see how much we raised and you get to keep the new cup!! The church building is a tool to reach the lost\, encourage the saints and lift the fallen. Help us keep RBC going strong for CHRIST!
URL:https://rochestermnbaptistchurch.org/event/coffee-for-christ/
LOCATION:Rochester Baptist Church\, 420 11th Ave NE\, Rochester\, MN\, 55906
ATTACH;FMTTYPE=image/jpeg:https://rochestermnbaptistchurch.org/wp-content/uploads/2024/03/Screenshot_20240304_083132_Chrome.jpg
END:VEVENT
BEGIN:VEVENT
DTSTART;TZID=America/Chicago:20240310T100000
DTEND;TZID=America/Chicago:20240310T110000
DTSTAMP:20260425T102038
CREATED:20240215T014120Z
LAST-MODIFIED:20240215T014120Z
UID:996-1710064800-1710068400@rochestermnbaptistchurch.org
SUMMARY:SonShine Nursing Home Outreach
DESCRIPTION:Come and see the Son Shine with the senior saints at Rochester East Nursing Home.  There is a song time\, short message\, and fellowship from 3 PM to 4 PM EVERY OTHER Sunday. \n 
URL:https://rochestermnbaptistchurch.org/event/sonshine-nursing-home-outreach-2/
LOCATION:Rochester East Nursing Home Facility\, 501 8th Ave SE\, Rochester\, MN\, 55904
ATTACH;FMTTYPE=image/webp:https://rochestermnbaptistchurch.org/wp-content/uploads/2024/02/sonshine.webp
END:VEVENT
BEGIN:VEVENT
DTSTART;VALUE=DATE:20240308
DTEND;VALUE=DATE:20240311
DTSTAMP:20260425T102038
CREATED:20240224T110614Z
LAST-MODIFIED:20240224T110614Z
UID:1064-1709920800-1710097199@rochestermnbaptistchurch.org
SUMMARY:Spring Clocks Forward
DESCRIPTION:Remember to set your clock forward on Saturday night\, March 9th. Daylight savings begins on Sunday\, March 10. Spring into Sunday School at Rochester Baptist Church!
URL:https://rochestermnbaptistchurch.org/event/spring-clocks-forward/
ATTACH;FMTTYPE=image/jpeg:https://rochestermnbaptistchurch.org/wp-content/uploads/2024/02/attachment-Untitled-design317.jpeg
END:VEVENT
BEGIN:VEVENT
DTSTART;TZID=America/Chicago:20240225T090000
DTEND;TZID=America/Chicago:20240225T100000
DTSTAMP:20260425T102038
CREATED:20240215T013710Z
LAST-MODIFIED:20240215T013710Z
UID:991-1708851600-1708855200@rochestermnbaptistchurch.org
SUMMARY:SonShine Nursing Home Outreach
DESCRIPTION:Come and see the Son-Shine with the senior saints at Rochester East Nursing Home.  There is a song time\,  short message\, and fellowship from 3 PM to 4 PM EVERY OTHER Sunday.
URL:https://rochestermnbaptistchurch.org/event/sonshine-nursing-home-outreach/
LOCATION:Rochester East Nursing Home Facility\, 501 8th Ave SE\, Rochester\, MN\, 55904
ATTACH;FMTTYPE=image/webp:https://rochestermnbaptistchurch.org/wp-content/uploads/2024/02/sonshine.webp
END:VEVENT
BEGIN:VEVENT
DTSTART;TZID=America/Chicago:20240222T034500
DTEND;TZID=America/Chicago:20240222T050000
DTSTAMP:20260425T102038
CREATED:20240208T072244Z
LAST-MODIFIED:20240208T072834Z
UID:961-1708573500-1708578000@rochestermnbaptistchurch.org
SUMMARY:Ladies Far Above Rubies
DESCRIPTION:Hi Ladies: Join us for Far Above Rubies. We will be studying the likenesses of Hannah and Mary’s Prayer & Songs of Praise.  1 Samuel 2:1-10 & Luke 1:46-56. Bring your favorite beverage. We will meet at RBC.
URL:https://rochestermnbaptistchurch.org/event/ladies-far-above-rubies/
LOCATION:Rochester Baptist Church\, 420 11th Ave NE\, Rochester\, MN\, 55906
ATTACH;FMTTYPE=image/jpeg:https://rochestermnbaptistchurch.org/wp-content/uploads/2023/09/ladies-bible-study.jpeg
END:VEVENT
BEGIN:VEVENT
DTSTART;TZID=America/Chicago:20240214T123000
DTEND;TZID=America/Chicago:20240214T143000
DTSTAMP:20260425T102038
CREATED:20240208T064646Z
LAST-MODIFIED:20240208T064918Z
UID:952-1707913800-1707921000@rochestermnbaptistchurch.org
SUMMARY:Valentine Mid-Week Family Fun Night
DESCRIPTION:Please join our mid-week Valentine service from 630 to 830 pm:  Bible challenge\, taco bar\, Bible trivia and fellowship. Everyone is invited. Bible trivia is from 1 Corinthians chapter 13. RBC is a place where you will experience the genuine LOVE of Christ! Hope to see you there!
URL:https://rochestermnbaptistchurch.org/event/valentine-mid-week-family-fun-night/
LOCATION:Rochester Baptist Church\, 420 11th Ave NE\, Rochester\, MN\, 55906
ATTACH;FMTTYPE=image/jpeg:https://rochestermnbaptistchurch.org/wp-content/uploads/2024/02/Love.jpeg
END:VEVENT
BEGIN:VEVENT
DTSTART;TZID=America/Chicago:20231224T123000
DTEND;TZID=America/Chicago:20231224T143000
DTSTAMP:20260425T102038
CREATED:20231128T225900Z
LAST-MODIFIED:20231212T113427Z
UID:786-1703421000-1703428200@rochestermnbaptistchurch.org
SUMMARY:Christmas Eve Candlelight Service Happy Birthday Jesus!
DESCRIPTION:Please join us for a reflection of praise and thanks for the birth of our Saviour. We will meet Sunday evening\, December 24th\, Christmas Eve at 630 p.m. for a special time by candlelight\, a birthday cake for Jesus\, Christmas hymns and sweet fellowship.
URL:https://rochestermnbaptistchurch.org/event/christmas-eve-candlelight-service-happy-birthday-jesus/
LOCATION:Rochester Baptist Church\, 420 11th Ave NE\, Rochester\, MN\, 55906
ATTACH;FMTTYPE=image/jpeg:https://rochestermnbaptistchurch.org/wp-content/uploads/2023/11/Christmas-Service2.jpeg
END:VEVENT
BEGIN:VEVENT
DTSTART;TZID=America/Chicago:20231216T050000
DTEND;TZID=America/Chicago:20231216T063000
DTSTAMP:20260425T102038
CREATED:20231205T111553Z
LAST-MODIFIED:20231206T064823Z
UID:820-1702702800-1702708200@rochestermnbaptistchurch.org
SUMMARY:Senior Christmas Outreach Day - Towne Club Senior Apartments
DESCRIPTION:Please join us as we spend an hour with the seniors at the Towne Club  Senior Apartments.  We will sing Christmas carols\, read the Christmas story\, hear some reflections from the past\, and enjoy treats together. Hope you can join us. We will meet in the reserved room off of lobby. Please use street parking and drop off any family members.
URL:https://rochestermnbaptistchurch.org/event/senior-outreach-day-towne-club-senior-apartments/
LOCATION:Towne Club Senior Apartments\, 1081 Felty Ave SE\, Rochester\, MN\, 55904
ATTACH;FMTTYPE=image/jpeg:https://rochestermnbaptistchurch.org/wp-content/uploads/2023/12/D0E52B80-3D64-4F15-B16C-2D60BEA7B8CE.jpeg
END:VEVENT
BEGIN:VEVENT
DTSTART;TZID=America/Chicago:20231214T033000
DTEND;TZID=America/Chicago:20231214T050000
DTSTAMP:20260425T102038
CREATED:20231205T103232Z
LAST-MODIFIED:20231212T112519Z
UID:808-1702524600-1702530000@rochestermnbaptistchurch.org
SUMMARY:Far Above Rubies- Ladies Bible Fellowship
DESCRIPTION:Please Join the ladies “Far Above Rubies” Bible Fellowship today as we study the likenesses of Hannah’s prayer in the Old Testament with Mary’s song of praise in the New Testament. Bring your favorite beverage.  We will be meeting at Lenée Marx’s home. 930am-11am
URL:https://rochestermnbaptistchurch.org/event/far-above-rubies-ladies-bible-fellowship/
LOCATION:Marx Home
ATTACH;FMTTYPE=image/jpeg:https://rochestermnbaptistchurch.org/wp-content/uploads/2023/09/ladies-bible-study-web-min_resized_1600w.jpeg
END:VEVENT
BEGIN:VEVENT
DTSTART;TZID=America/Chicago:20231209T050000
DTEND;TZID=America/Chicago:20231209T063000
DTSTAMP:20260425T102038
CREATED:20231205T110800Z
LAST-MODIFIED:20231205T110939Z
UID:814-1702098000-1702103400@rochestermnbaptistchurch.org
SUMMARY:Senior Christmas Outreach Day-High Pointe Senior Living Apartments
DESCRIPTION:Please Join us as we spend an hour with the seniors at High Pointe Living Senior Apartments.  We will sing Christmas carols\, read the Christmas story\, hear some reflections from the past\, and enjoy treats together. Hope you can join us. We will meet in the lower floor lobby area. Please use street parking and drop off any family members.
URL:https://rochestermnbaptistchurch.org/event/senior-christmas-outreach-day-high-pointe-senior-living-apartments/
LOCATION:High Pointe Senior Community\, 1830 High Pointe LN NW\, Rochester\, MN\, 55901
ATTACH;FMTTYPE=image/jpeg:https://rochestermnbaptistchurch.org/wp-content/uploads/2023/12/D0E52B80-3D64-4F15-B16C-2D60BEA7B8CE.jpeg
END:VEVENT
BEGIN:VEVENT
DTSTART;VALUE=DATE:20231125
DTEND;VALUE=DATE:20231130
DTSTAMP:20260425T102038
CREATED:20231026T231554Z
LAST-MODIFIED:20231128T224758Z
UID:721-1700935200-1701280799@rochestermnbaptistchurch.org
SUMMARY:Stewardship Revival/Fellowship/Bonfire
DESCRIPTION:Evangelist Jeff Farnham and his wife will be with us this week. \n\nRegular Sunday Services 10am & 11am\nSunday 9:30am hot Breakfast Fellowship-come EARLY!\nMonday night Nov. 27th-7pm @ RBC\nTuesday night Nov. 28th-6pm Bonfire @ Noonans-bring an appetizer to share\, or slider sandwiches and your beverage. Dress for the weather. We will have hot coffee\, good food\, a great tine of warmth and friendship.\nWednesday night Nov. 29th-7 pm @ RBC
URL:https://rochestermnbaptistchurch.org/event/stewardship-revival-fellowship-bonfire/
LOCATION:Rochester Baptist Church\, 420 11th Ave NE\, Rochester\, MN\, 55906
ATTACH;FMTTYPE=image/png:https://rochestermnbaptistchurch.org/wp-content/uploads/2023/10/stewardship.png
END:VEVENT
BEGIN:VEVENT
DTSTART;TZID=America/Chicago:20231121T130000
DTEND;TZID=America/Chicago:20231121T150000
DTSTAMP:20260425T102038
CREATED:20231026T225533Z
LAST-MODIFIED:20231026T230307Z
UID:711-1700571600-1700578800@rochestermnbaptistchurch.org
SUMMARY:Tuesday Midweek Service/Pie Fellowship/Testimonies
DESCRIPTION:Midweek service is TUESDAY\, November 21st \n\n7 p.m.\nNo Wednesday service due to holiday.\nJoin us Tuesday for a reflection of gratefulness\, testimonies and yummy PIE!
URL:https://rochestermnbaptistchurch.org/event/midweek-service-pie-fellowship-testimonies/
LOCATION:Rochester Baptist Church\, 420 11th Ave NE\, Rochester\, MN\, 55906
ATTACH;FMTTYPE=image/jpeg:https://rochestermnbaptistchurch.org/wp-content/uploads/2023/10/Join-us-for-thanksgiving-service-WEB-EVENT.jpeg
END:VEVENT
BEGIN:VEVENT
DTSTART;TZID=America/Chicago:20231028T053000
DTEND;TZID=America/Chicago:20231028T070000
DTSTAMP:20260425T102038
CREATED:20231010T024424Z
LAST-MODIFIED:20231010T052736Z
UID:598-1698471000-1698476400@rochestermnbaptistchurch.org
SUMMARY:Kitchen Table Ministry~Ladies Study for the Home
DESCRIPTION:Kitchen Table Home Bible Study series for women. We will be studying the topic of: Slothfulness.
URL:https://rochestermnbaptistchurch.org/event/ladies-kitchen-table-bible-study-2/
LOCATION:Noonan Home
ATTACH;FMTTYPE=image/jpeg:https://rochestermnbaptistchurch.org/wp-content/uploads/2023/10/65C1FE85-E979-4E2D-AB36-6B5CD6FB3AA7.jpeg
END:VEVENT
BEGIN:VEVENT
DTSTART;TZID=America/Chicago:20231022T040000
DTEND;TZID=America/Chicago:20231022T093000
DTSTAMP:20260425T102038
CREATED:20231010T021242Z
LAST-MODIFIED:20231010T021807Z
UID:587-1697947200-1697967000@rochestermnbaptistchurch.org
SUMMARY:Happy 24th Anniversary Rochester Baptist
DESCRIPTION:Join us Sunday\, October 22\, for Guest Speaker Ron Webb as we celebrate 24 years of Rochester Baptist Church. \nDonuts and Coffee 9:15 am-10 am \nSunday School 10am /Morning Worship 11am /Soup Fellowship 12:30-1:30/Afternoon service 1:30-2:30 \nPlease see sign-up sheets for the food that day. October is also clergy appreciation month. Please raise the arms of our preacher. \n 
URL:https://rochestermnbaptistchurch.org/event/happy-24th-anniversary-rochester-baptist/
LOCATION:Rochester Baptist Church\, 420 11th Ave NE\, Rochester\, MN\, 55906
ATTACH;FMTTYPE=image/jpeg:https://rochestermnbaptistchurch.org/wp-content/uploads/2023/10/B93295AC-8063-4288-A7CF-030C51C1F1DE_4_5005_c.jpeg
END:VEVENT
BEGIN:VEVENT
DTSTART;TZID=America/Chicago:20231019T053000
DTEND;TZID=America/Chicago:20231019T063000
DTSTAMP:20260425T102038
CREATED:20231010T020250Z
LAST-MODIFIED:20231010T053039Z
UID:585-1697693400-1697697000@rochestermnbaptistchurch.org
SUMMARY:Far Above Rubies~Ladies Bible Study
DESCRIPTION:Ladies please join us Thursday\, October 19th @ 10:30 a.m. at RBC for our Bible study!\nWe are studying the contrasts and similarities of Ruth and Esther Chapters 1-2.\nYour price is Far Above Rubies! We hope to see you there.\nBring your favorite beverage.
URL:https://rochestermnbaptistchurch.org/event/far-above-rubiesladies-bible-study/
LOCATION:Rochester Baptist Church\, 420 11th Ave NE\, Rochester\, MN\, 55906
ATTACH;FMTTYPE=image/jpeg:https://rochestermnbaptistchurch.org/wp-content/uploads/2023/09/Far-above-rubies.jpeg
END:VEVENT
BEGIN:VEVENT
DTSTART;TZID=America/Chicago:20230928T053000
DTEND;TZID=America/Chicago:20230928T063000
DTSTAMP:20260425T102038
CREATED:20230919T053612Z
LAST-MODIFIED:20230919T054318Z
UID:524-1695879000-1695882600@rochestermnbaptistchurch.org
SUMMARY:Ladies Far Above Rubies Bible Fellowship
DESCRIPTION:Hello Ladies\, Hope you can join us\, Thursday\, September 28th at RBC @ 1030 a.m. We will be studying the character of Ruth and Esther! Bring your favorite beverage and let’s dig into the Bible!
URL:https://rochestermnbaptistchurch.org/event/ladies-far-above-rubies-bible-fellowship-rochester-minnesota/
LOCATION:Rochester Baptist Church\, 420 11th Ave NE\, Rochester\, MN\, 55906
ATTACH;FMTTYPE=image/jpeg:https://rochestermnbaptistchurch.org/wp-content/uploads/2023/09/Far-above-rubies.jpeg
END:VEVENT
BEGIN:VEVENT
DTSTART;TZID=America/Chicago:20230925T130000
DTEND;TZID=America/Chicago:20230925T150000
DTSTAMP:20260425T102038
CREATED:20230903T064046Z
LAST-MODIFIED:20230903T064046Z
UID:494-1695646800-1695654000@rochestermnbaptistchurch.org
SUMMARY:Ladies Kitchen Table Bible Study
DESCRIPTION:Hey Ladies: Join us for the Kitchen Table Bible Study around the table at Mrs. Noonan’s house. We are studying the HOME and this month’s topic is  ISOLATION. Feeling isolated or punishing others with isolation is a dangerous thing in the Christian life.
URL:https://rochestermnbaptistchurch.org/event/ladies-kitchen-table-bible-study/
LOCATION:Noonan Home
ATTACH;FMTTYPE=image/jpeg:https://rochestermnbaptistchurch.org/wp-content/uploads/2023/09/Lady-bible-study.jpeg
END:VEVENT
BEGIN:VEVENT
DTSTART;TZID=America/Chicago:20230917T060000
DTEND;TZID=America/Chicago:20230917T073000
DTSTAMP:20260425T102038
CREATED:20230903T062933Z
LAST-MODIFIED:20230903T062933Z
UID:489-1694930400-1694935800@rochestermnbaptistchurch.org
SUMMARY:Lord's Table Observed
DESCRIPTION:Please join us as we remember the Lord’s broken body and shed blood. This is a time to examine ourselves and remember the Lord’s sacrifice for us!
URL:https://rochestermnbaptistchurch.org/event/lords-table-observed/
LOCATION:Rochester Baptist Church\, 420 11th Ave NE\, Rochester\, MN\, 55906
ATTACH;FMTTYPE=image/png:https://rochestermnbaptistchurch.org/wp-content/uploads/2023/09/lords-supper-1-400px.png
END:VEVENT
BEGIN:VEVENT
DTSTART;TZID=America/Chicago:20230913T140000
DTEND;TZID=America/Chicago:20230913T150000
DTSTAMP:20260425T102038
CREATED:20230903T061501Z
LAST-MODIFIED:20230903T061501Z
UID:483-1694613600-1694617200@rochestermnbaptistchurch.org
SUMMARY:No-Mid Week Wednesday night service\, September 13th
DESCRIPTION:Due to the Revival meetings Sunday night through Tuesday night with Dr. Bill Grady\, we will not have regular Wednesday night services on September 13th\, but will resume them on Wednesday\, September 20th. Please catch any services you missed on YOUTUBE.
URL:https://rochestermnbaptistchurch.org/event/no-mid-week-wednesday-night-service-september-13th/
ATTACH;FMTTYPE=image/jpeg:https://rochestermnbaptistchurch.org/wp-content/uploads/2023/09/service-time-change-1.jpeg
END:VEVENT
BEGIN:VEVENT
DTSTART;TZID=America/Chicago:20230912T140000
DTEND;TZID=America/Chicago:20230912T160000
DTSTAMP:20260425T102038
CREATED:20230903T055213Z
LAST-MODIFIED:20230903T055353Z
UID:477-1694527200-1694534400@rochestermnbaptistchurch.org
SUMMARY:Evangelist/Author Dr. William P. Grady
DESCRIPTION:Don’t miss our LAST NIGHT of REVIVAL with Dr. Bill Grady. \nTuesday\, September 12 @ 7 pm \nHe has authored books on the defense of the King James Bible: Final Authority and What Hath God Wrought as well as many other publications.  Dr Grady is engaging\, interesting\, thought provoking and challenging. Please Join us! \n \n 
URL:https://rochestermnbaptistchurch.org/event/evangelist-author-dr-william-p-grady-2/
LOCATION:Rochester Baptist Church\, 420 11th Ave NE\, Rochester\, MN\, 55906
ATTACH;FMTTYPE=image/jpeg:https://rochestermnbaptistchurch.org/wp-content/uploads/2023/09/Bill-Grady.jpeg
END:VEVENT
BEGIN:VEVENT
DTSTART;TZID=America/Chicago:20230911T140000
DTEND;TZID=America/Chicago:20230911T160000
DTSTAMP:20260425T102038
CREATED:20230903T054919Z
LAST-MODIFIED:20230903T054919Z
UID:474-1694440800-1694448000@rochestermnbaptistchurch.org
SUMMARY:Evangelist/Author Dr. William P. Grady
DESCRIPTION:Please join us for continued REVIVAL with Dr. Bill Grady. \nMonday\, September 11 @ 7 pm and Tuesday\, September 12 @ 7 pm \nHe has authored books on the defense of the King James Bible: Final Authority and What Hath God Wrought as well as many other publications.  Dr Grady is engaging\, interesting\, thought provoking and challenging. Please Join us!
URL:https://rochestermnbaptistchurch.org/event/evangelist-author-dr-william-p-grady/
LOCATION:Rochester Baptist Church\, 420 11th Ave NE\, Rochester\, MN\, 55906
ATTACH;FMTTYPE=image/jpeg:https://rochestermnbaptistchurch.org/wp-content/uploads/2023/09/Bill-Grady.jpeg
END:VEVENT
BEGIN:VEVENT
DTSTART;TZID=America/Chicago:20230910T120000
DTEND;TZID=America/Chicago:20230910T140000
DTSTAMP:20260425T102038
CREATED:20230903T054201Z
LAST-MODIFIED:20230903T055017Z
UID:470-1694347200-1694354400@rochestermnbaptistchurch.org
SUMMARY:Evangelist/Author Dr. William P. Grady
DESCRIPTION:Dr William (Bill) Grady will be with us Sunday night\, Sept 10 @ 5 pm \nMonday\, September 11 @ 7 pm and Tuesday\, September 12 @ 7 pm \nHe has authored books on the defense of the King James Bible: Final Authority and What Hath God Wrought as well as many other publications.  Dr Grady is engaging\, interesting\, thought provoking and challenging. Please Join us!
URL:https://rochestermnbaptistchurch.org/event/evangelist-author-william-p-grady/
ATTACH;FMTTYPE=image/jpeg:https://rochestermnbaptistchurch.org/wp-content/uploads/2023/09/Bill-Grady.jpeg
END:VEVENT
END:VCALENDAR