BEGIN:VCALENDAR
VERSION:2.0
PRODID:-//Rochester Baptist Church - ECPv6.15.20//NONSGML v1.0//EN
CALSCALE:GREGORIAN
METHOD:PUBLISH
X-WR-CALNAME:Rochester Baptist Church
X-ORIGINAL-URL:https://rochestermnbaptistchurch.org
X-WR-CALDESC:Events for Rochester Baptist Church
REFRESH-INTERVAL;VALUE=DURATION:PT1H
X-Robots-Tag:noindex
X-PUBLISHED-TTL:PT1H
BEGIN:VTIMEZONE
TZID:America/Chicago
BEGIN:DAYLIGHT
TZOFFSETFROM:-0600
TZOFFSETTO:-0500
TZNAME:CDT
DTSTART:20250309T080000
END:DAYLIGHT
BEGIN:STANDARD
TZOFFSETFROM:-0500
TZOFFSETTO:-0600
TZNAME:CST
DTSTART:20251102T070000
END:STANDARD
BEGIN:DAYLIGHT
TZOFFSETFROM:-0600
TZOFFSETTO:-0500
TZNAME:CDT
DTSTART:20260308T080000
END:DAYLIGHT
BEGIN:STANDARD
TZOFFSETFROM:-0500
TZOFFSETTO:-0600
TZNAME:CST
DTSTART:20261101T070000
END:STANDARD
BEGIN:DAYLIGHT
TZOFFSETFROM:-0600
TZOFFSETTO:-0500
TZNAME:CDT
DTSTART:20270314T080000
END:DAYLIGHT
BEGIN:STANDARD
TZOFFSETFROM:-0500
TZOFFSETTO:-0600
TZNAME:CST
DTSTART:20271107T070000
END:STANDARD
END:VTIMEZONE
BEGIN:VEVENT
DTSTART;TZID=America/Chicago:20260412T110000
DTEND;TZID=America/Chicago:20260412T123000
DTSTAMP:20260423T162712
CREATED:20260403T004313Z
LAST-MODIFIED:20260403T004313Z
UID:2280-1775991600-1775997000@rochestermnbaptistchurch.org
SUMMARY:Lord's Supper Observed
DESCRIPTION:Join us as we reflect on the Lord’s broken body and shed blood.  This is so fitting following the Resurrection holiday to put us in remembrance and ignite a grateful spirit within us! Thank you LORD for your sacrifice and taking of that bitter cup that we might have eternal LIFE! \n \n 
URL:https://rochestermnbaptistchurch.org/event/lords-supper-observed/
LOCATION:Rochester Baptist Church\, 420 11th Ave NE\, Rochester\, MN\, 55906
ATTACH;FMTTYPE=image/jpeg:https://rochestermnbaptistchurch.org/wp-content/uploads/2023/09/Lords-cup.jpeg
END:VEVENT
END:VCALENDAR