BEGIN:VCALENDAR
VERSION:2.0
PRODID:-//Rochester Baptist Church - ECPv6.15.20//NONSGML v1.0//EN
CALSCALE:GREGORIAN
METHOD:PUBLISH
X-ORIGINAL-URL:https://rochestermnbaptistchurch.org
X-WR-CALDESC:Events for Rochester Baptist Church
REFRESH-INTERVAL;VALUE=DURATION:PT1H
X-Robots-Tag:noindex
X-PUBLISHED-TTL:PT1H
BEGIN:VTIMEZONE
TZID:America/Chicago
BEGIN:DAYLIGHT
TZOFFSETFROM:-0600
TZOFFSETTO:-0500
TZNAME:CDT
DTSTART:20240310T080000
END:DAYLIGHT
BEGIN:STANDARD
TZOFFSETFROM:-0500
TZOFFSETTO:-0600
TZNAME:CST
DTSTART:20241103T070000
END:STANDARD
BEGIN:DAYLIGHT
TZOFFSETFROM:-0600
TZOFFSETTO:-0500
TZNAME:CDT
DTSTART:20250309T080000
END:DAYLIGHT
BEGIN:STANDARD
TZOFFSETFROM:-0500
TZOFFSETTO:-0600
TZNAME:CST
DTSTART:20251102T070000
END:STANDARD
BEGIN:DAYLIGHT
TZOFFSETFROM:-0600
TZOFFSETTO:-0500
TZNAME:CDT
DTSTART:20260308T080000
END:DAYLIGHT
BEGIN:STANDARD
TZOFFSETFROM:-0500
TZOFFSETTO:-0600
TZNAME:CST
DTSTART:20261101T070000
END:STANDARD
END:VTIMEZONE
BEGIN:VEVENT
DTSTART;TZID=America/Chicago:20250209T100000
DTEND;TZID=America/Chicago:20250209T123000
DTSTAMP:20260424T142041
CREATED:20250201T015541Z
LAST-MODIFIED:20250201T015834Z
UID:1897-1739095200-1739104200@rochestermnbaptistchurch.org
SUMMARY:Guest Speaker: Missionary Brian Nibbe
DESCRIPTION:RBC Welcomes Veteran Missionary\, Brian Nibbe\, to Romania! \nBrother Nibbe will be speaking in both Sunday school at 10 a.m. and morning service at 11 a.m.
URL:https://rochestermnbaptistchurch.org/event/guest-speaker-missionary-brian-nibbe/
LOCATION:Rochester Baptist Church\, 420 11th Ave NE\, Rochester\, MN\, 55906
ATTACH;FMTTYPE=image/jpeg:https://rochestermnbaptistchurch.org/wp-content/uploads/2025/01/maxresdefault.jpeg
END:VEVENT
BEGIN:VEVENT
DTSTART;TZID=America/Chicago:20250209T123000
DTEND;TZID=America/Chicago:20250209T143000
DTSTAMP:20260424T142041
CREATED:20250105T020006Z
LAST-MODIFIED:20250208T193536Z
UID:1869-1739104200-1739111400@rochestermnbaptistchurch.org
SUMMARY:Baby Brunch Celebration
DESCRIPTION:Wow\, the LORD has been good! RBC is welcoming 3 new babies to the church nursery. \nPlease join us as we celebrate the new little ones and their mommas! \nSunday\, February 9 – immediately following church services. \nBrunch entrees\, mini sweet treats\, banana punch\, coffee\, fellowship\, games\, presents\, a ladies devotional challenge and more! \nPlease come and join the FUN!
URL:https://rochestermnbaptistchurch.org/event/baby-brunch-celebration/
LOCATION:Rochester Baptist Church\, 420 11th Ave NE\, Rochester\, MN\, 55906
ATTACH;FMTTYPE=image/jpeg:https://rochestermnbaptistchurch.org/wp-content/uploads/2025/01/Screenshot_20241227_091922_Chrome.jpeg
END:VEVENT
END:VCALENDAR