BEGIN:VCALENDAR
VERSION:2.0
PRODID:-//Rochester Baptist Church - ECPv6.15.20//NONSGML v1.0//EN
CALSCALE:GREGORIAN
METHOD:PUBLISH
X-ORIGINAL-URL:https://rochestermnbaptistchurch.org
X-WR-CALDESC:Events for Rochester Baptist Church
REFRESH-INTERVAL;VALUE=DURATION:PT1H
X-Robots-Tag:noindex
X-PUBLISHED-TTL:PT1H
BEGIN:VTIMEZONE
TZID:America/Chicago
BEGIN:DAYLIGHT
TZOFFSETFROM:-0600
TZOFFSETTO:-0500
TZNAME:CDT
DTSTART:20230312T080000
END:DAYLIGHT
BEGIN:STANDARD
TZOFFSETFROM:-0500
TZOFFSETTO:-0600
TZNAME:CST
DTSTART:20231105T070000
END:STANDARD
BEGIN:DAYLIGHT
TZOFFSETFROM:-0600
TZOFFSETTO:-0500
TZNAME:CDT
DTSTART:20240310T080000
END:DAYLIGHT
BEGIN:STANDARD
TZOFFSETFROM:-0500
TZOFFSETTO:-0600
TZNAME:CST
DTSTART:20241103T070000
END:STANDARD
BEGIN:DAYLIGHT
TZOFFSETFROM:-0600
TZOFFSETTO:-0500
TZNAME:CDT
DTSTART:20250309T080000
END:DAYLIGHT
BEGIN:STANDARD
TZOFFSETFROM:-0500
TZOFFSETTO:-0600
TZNAME:CST
DTSTART:20251102T070000
END:STANDARD
END:VTIMEZONE
BEGIN:VEVENT
DTSTART;TZID=America/Chicago:20240331T043000
DTEND;TZID=America/Chicago:20240331T073000
DTSTAMP:20260425T061231
CREATED:20240224T105928Z
LAST-MODIFIED:20240224T105928Z
UID:1060-1711859400-1711870200@rochestermnbaptistchurch.org
SUMMARY:Resurrection Sunday Brunch
DESCRIPTION:Hello Everyone\, \nYES! We have church on Resurrection Sunday!!! Bring the family for a Lobby Brunch at 930 a.m. with yummy foods and let’s celebrate the LORD’s resurrection! Good food\, fun fellowship\, treats for kids\, encouraging music and the TRUTH of the resurrection! See you then\, invite a friend! Nursery provided\, Sunday school brunch at 930 a.m. and morning service at 11 a.m.
URL:https://rochestermnbaptistchurch.org/event/resurrection-sunday-brunch/
LOCATION:Rochester Baptist Church\, 420 11th Ave NE\, Rochester\, MN\, 55906
ATTACH;FMTTYPE=image/jpeg:https://rochestermnbaptistchurch.org/wp-content/uploads/2024/02/easter-brunch-sf-2023-scaled.jpeg
END:VEVENT
END:VCALENDAR