BEGIN:VCALENDAR
VERSION:2.0
PRODID:-//Rochester Baptist Church - ECPv6.15.20//NONSGML v1.0//EN
CALSCALE:GREGORIAN
METHOD:PUBLISH
X-ORIGINAL-URL:https://rochestermnbaptistchurch.org
X-WR-CALDESC:Events for Rochester Baptist Church
REFRESH-INTERVAL;VALUE=DURATION:PT1H
X-Robots-Tag:noindex
X-PUBLISHED-TTL:PT1H
BEGIN:VTIMEZONE
TZID:America/Chicago
BEGIN:DAYLIGHT
TZOFFSETFROM:-0600
TZOFFSETTO:-0500
TZNAME:CDT
DTSTART:20230312T080000
END:DAYLIGHT
BEGIN:STANDARD
TZOFFSETFROM:-0500
TZOFFSETTO:-0600
TZNAME:CST
DTSTART:20231105T070000
END:STANDARD
BEGIN:DAYLIGHT
TZOFFSETFROM:-0600
TZOFFSETTO:-0500
TZNAME:CDT
DTSTART:20240310T080000
END:DAYLIGHT
BEGIN:STANDARD
TZOFFSETFROM:-0500
TZOFFSETTO:-0600
TZNAME:CST
DTSTART:20241103T070000
END:STANDARD
BEGIN:DAYLIGHT
TZOFFSETFROM:-0600
TZOFFSETTO:-0500
TZNAME:CDT
DTSTART:20250309T080000
END:DAYLIGHT
BEGIN:STANDARD
TZOFFSETFROM:-0500
TZOFFSETTO:-0600
TZNAME:CST
DTSTART:20251102T070000
END:STANDARD
END:VTIMEZONE
BEGIN:VEVENT
DTSTART;TZID=America/Chicago:20240317T050000
DTEND;TZID=America/Chicago:20240317T080000
DTSTAMP:20260425T061210
CREATED:20240312T090849Z
LAST-MODIFIED:20240312T091021Z
UID:1150-1710651600-1710662400@rochestermnbaptistchurch.org
SUMMARY:Coffee for Christ
DESCRIPTION:Bring a Coffee Mug to exchange on Sunday\, March 17. We are raising money one cup at a time to renovate our roof and auditorium. Bring a coffee cup to give away and you also get to take a cup home. Fill your cup with change or an offering over the next 4 weeks and then we will bring it back and see how much we raised and you get to keep the new cup!! The church building is a tool to reach the lost\, encourage the saints and lift the fallen. Help us keep RBC going strong for CHRIST!
URL:https://rochestermnbaptistchurch.org/event/coffee-for-christ/
LOCATION:Rochester Baptist Church\, 420 11th Ave NE\, Rochester\, MN\, 55906
ATTACH;FMTTYPE=image/jpeg:https://rochestermnbaptistchurch.org/wp-content/uploads/2024/03/Screenshot_20240304_083132_Chrome.jpg
END:VEVENT
END:VCALENDAR