BEGIN:VCALENDAR
VERSION:2.0
PRODID:-//Rochester Baptist Church - ECPv6.15.20//NONSGML v1.0//EN
CALSCALE:GREGORIAN
METHOD:PUBLISH
X-ORIGINAL-URL:https://rochestermnbaptistchurch.org
X-WR-CALDESC:Events for Rochester Baptist Church
REFRESH-INTERVAL;VALUE=DURATION:PT1H
X-Robots-Tag:noindex
X-PUBLISHED-TTL:PT1H
BEGIN:VTIMEZONE
TZID:America/Chicago
BEGIN:DAYLIGHT
TZOFFSETFROM:-0600
TZOFFSETTO:-0500
TZNAME:CDT
DTSTART:20220313T080000
END:DAYLIGHT
BEGIN:STANDARD
TZOFFSETFROM:-0500
TZOFFSETTO:-0600
TZNAME:CST
DTSTART:20221106T070000
END:STANDARD
BEGIN:DAYLIGHT
TZOFFSETFROM:-0600
TZOFFSETTO:-0500
TZNAME:CDT
DTSTART:20230312T080000
END:DAYLIGHT
BEGIN:STANDARD
TZOFFSETFROM:-0500
TZOFFSETTO:-0600
TZNAME:CST
DTSTART:20231105T070000
END:STANDARD
BEGIN:DAYLIGHT
TZOFFSETFROM:-0600
TZOFFSETTO:-0500
TZNAME:CDT
DTSTART:20240310T080000
END:DAYLIGHT
BEGIN:STANDARD
TZOFFSETFROM:-0500
TZOFFSETTO:-0600
TZNAME:CST
DTSTART:20241103T070000
END:STANDARD
END:VTIMEZONE
BEGIN:VEVENT
DTSTART;TZID=America/Chicago:20231216T050000
DTEND;TZID=America/Chicago:20231216T063000
DTSTAMP:20260425T102221
CREATED:20231205T111553Z
LAST-MODIFIED:20231206T064823Z
UID:820-1702702800-1702708200@rochestermnbaptistchurch.org
SUMMARY:Senior Christmas Outreach Day - Towne Club Senior Apartments
DESCRIPTION:Please join us as we spend an hour with the seniors at the Towne Club  Senior Apartments.  We will sing Christmas carols\, read the Christmas story\, hear some reflections from the past\, and enjoy treats together. Hope you can join us. We will meet in the reserved room off of lobby. Please use street parking and drop off any family members.
URL:https://rochestermnbaptistchurch.org/event/senior-outreach-day-towne-club-senior-apartments/
LOCATION:Towne Club Senior Apartments\, 1081 Felty Ave SE\, Rochester\, MN\, 55904
ATTACH;FMTTYPE=image/jpeg:https://rochestermnbaptistchurch.org/wp-content/uploads/2023/12/D0E52B80-3D64-4F15-B16C-2D60BEA7B8CE.jpeg
END:VEVENT
END:VCALENDAR