BEGIN:VCALENDAR
VERSION:2.0
PRODID:-//Rochester Baptist Church - ECPv6.15.20//NONSGML v1.0//EN
CALSCALE:GREGORIAN
METHOD:PUBLISH
X-WR-CALNAME:Rochester Baptist Church
X-ORIGINAL-URL:https://rochestermnbaptistchurch.org
X-WR-CALDESC:Events for Rochester Baptist Church
REFRESH-INTERVAL;VALUE=DURATION:PT1H
X-Robots-Tag:noindex
X-PUBLISHED-TTL:PT1H
BEGIN:VTIMEZONE
TZID:America/Chicago
BEGIN:DAYLIGHT
TZOFFSETFROM:-0600
TZOFFSETTO:-0500
TZNAME:CDT
DTSTART:20220313T080000
END:DAYLIGHT
BEGIN:STANDARD
TZOFFSETFROM:-0500
TZOFFSETTO:-0600
TZNAME:CST
DTSTART:20221106T070000
END:STANDARD
BEGIN:DAYLIGHT
TZOFFSETFROM:-0600
TZOFFSETTO:-0500
TZNAME:CDT
DTSTART:20230312T080000
END:DAYLIGHT
BEGIN:STANDARD
TZOFFSETFROM:-0500
TZOFFSETTO:-0600
TZNAME:CST
DTSTART:20231105T070000
END:STANDARD
BEGIN:DAYLIGHT
TZOFFSETFROM:-0600
TZOFFSETTO:-0500
TZNAME:CDT
DTSTART:20240310T080000
END:DAYLIGHT
BEGIN:STANDARD
TZOFFSETFROM:-0500
TZOFFSETTO:-0600
TZNAME:CST
DTSTART:20241103T070000
END:STANDARD
END:VTIMEZONE
BEGIN:VEVENT
DTSTART;TZID=America/Chicago:20231121T130000
DTEND;TZID=America/Chicago:20231121T150000
DTSTAMP:20260425T114931
CREATED:20231026T225533Z
LAST-MODIFIED:20231026T230307Z
UID:711-1700571600-1700578800@rochestermnbaptistchurch.org
SUMMARY:Tuesday Midweek Service/Pie Fellowship/Testimonies
DESCRIPTION:Midweek service is TUESDAY\, November 21st \n\n7 p.m.\nNo Wednesday service due to holiday.\nJoin us Tuesday for a reflection of gratefulness\, testimonies and yummy PIE!
URL:https://rochestermnbaptistchurch.org/event/midweek-service-pie-fellowship-testimonies/
LOCATION:Rochester Baptist Church\, 420 11th Ave NE\, Rochester\, MN\, 55906
ATTACH;FMTTYPE=image/jpeg:https://rochestermnbaptistchurch.org/wp-content/uploads/2023/10/Join-us-for-thanksgiving-service-WEB-EVENT.jpeg
END:VEVENT
END:VCALENDAR