BEGIN:VCALENDAR
VERSION:2.0
PRODID:-//Rochester Baptist Church - ECPv6.15.20//NONSGML v1.0//EN
CALSCALE:GREGORIAN
METHOD:PUBLISH
X-ORIGINAL-URL:https://rochestermnbaptistchurch.org
X-WR-CALDESC:Events for Rochester Baptist Church
REFRESH-INTERVAL;VALUE=DURATION:PT1H
X-Robots-Tag:noindex
X-PUBLISHED-TTL:PT1H
BEGIN:VTIMEZONE
TZID:America/Chicago
BEGIN:DAYLIGHT
TZOFFSETFROM:-0600
TZOFFSETTO:-0500
TZNAME:CDT
DTSTART:20220313T080000
END:DAYLIGHT
BEGIN:STANDARD
TZOFFSETFROM:-0500
TZOFFSETTO:-0600
TZNAME:CST
DTSTART:20221106T070000
END:STANDARD
BEGIN:DAYLIGHT
TZOFFSETFROM:-0600
TZOFFSETTO:-0500
TZNAME:CDT
DTSTART:20230312T080000
END:DAYLIGHT
BEGIN:STANDARD
TZOFFSETFROM:-0500
TZOFFSETTO:-0600
TZNAME:CST
DTSTART:20231105T070000
END:STANDARD
BEGIN:DAYLIGHT
TZOFFSETFROM:-0600
TZOFFSETTO:-0500
TZNAME:CDT
DTSTART:20240310T080000
END:DAYLIGHT
BEGIN:STANDARD
TZOFFSETFROM:-0500
TZOFFSETTO:-0600
TZNAME:CST
DTSTART:20241103T070000
END:STANDARD
END:VTIMEZONE
BEGIN:VEVENT
DTSTART;TZID=America/Chicago:20231022T040000
DTEND;TZID=America/Chicago:20231022T093000
DTSTAMP:20260425T131042
CREATED:20231010T021242Z
LAST-MODIFIED:20231010T021807Z
UID:587-1697947200-1697967000@rochestermnbaptistchurch.org
SUMMARY:Happy 24th Anniversary Rochester Baptist
DESCRIPTION:Join us Sunday\, October 22\, for Guest Speaker Ron Webb as we celebrate 24 years of Rochester Baptist Church. \nDonuts and Coffee 9:15 am-10 am \nSunday School 10am /Morning Worship 11am /Soup Fellowship 12:30-1:30/Afternoon service 1:30-2:30 \nPlease see sign-up sheets for the food that day. October is also clergy appreciation month. Please raise the arms of our preacher. \n 
URL:https://rochestermnbaptistchurch.org/event/happy-24th-anniversary-rochester-baptist/
LOCATION:Rochester Baptist Church\, 420 11th Ave NE\, Rochester\, MN\, 55906
ATTACH;FMTTYPE=image/jpeg:https://rochestermnbaptistchurch.org/wp-content/uploads/2023/10/B93295AC-8063-4288-A7CF-030C51C1F1DE_4_5005_c.jpeg
END:VEVENT
END:VCALENDAR