BEGIN:VCALENDAR
VERSION:2.0
PRODID:-//Rochester Baptist Church - ECPv6.15.20//NONSGML v1.0//EN
CALSCALE:GREGORIAN
METHOD:PUBLISH
X-ORIGINAL-URL:https://rochestermnbaptistchurch.org
X-WR-CALDESC:Events for Rochester Baptist Church
REFRESH-INTERVAL;VALUE=DURATION:PT1H
X-Robots-Tag:noindex
X-PUBLISHED-TTL:PT1H
BEGIN:VTIMEZONE
TZID:America/Chicago
BEGIN:DAYLIGHT
TZOFFSETFROM:-0600
TZOFFSETTO:-0500
TZNAME:CDT
DTSTART:20220313T080000
END:DAYLIGHT
BEGIN:STANDARD
TZOFFSETFROM:-0500
TZOFFSETTO:-0600
TZNAME:CST
DTSTART:20221106T070000
END:STANDARD
BEGIN:DAYLIGHT
TZOFFSETFROM:-0600
TZOFFSETTO:-0500
TZNAME:CDT
DTSTART:20230312T080000
END:DAYLIGHT
BEGIN:STANDARD
TZOFFSETFROM:-0500
TZOFFSETTO:-0600
TZNAME:CST
DTSTART:20231105T070000
END:STANDARD
BEGIN:DAYLIGHT
TZOFFSETFROM:-0600
TZOFFSETTO:-0500
TZNAME:CDT
DTSTART:20240310T080000
END:DAYLIGHT
BEGIN:STANDARD
TZOFFSETFROM:-0500
TZOFFSETTO:-0600
TZNAME:CST
DTSTART:20241103T070000
END:STANDARD
END:VTIMEZONE
BEGIN:VEVENT
DTSTART;TZID=America/Chicago:20230622T070000
DTEND;TZID=America/Chicago:20230624T140000
DTSTAMP:20260425T185708
CREATED:20230425T065131Z
LAST-MODIFIED:20230425T071059Z
UID:345-1687417200-1687615200@rochestermnbaptistchurch.org
SUMMARY:Youth Conference in Wisconsin
DESCRIPTION:Young people ages 12 through High School are invited to join us for a road trip to Oak Creek\, Wisconsin for a 2 day Youth Conference at Faith Baptist Church. \nDeparture: Thursday\, June 22nd \nReturn: Saturday\, June 24th. \n$10 registration fee plus additional meal and fuel expenses.  We will try to lodge with FBC church families to save on hotel expenses.
URL:https://rochestermnbaptistchurch.org/event/youth-conference-in-wisconsin/
LOCATION:Faith Baptist Church\, 8519 South 13th Street\, Oak Creek\, WI\, 53154
ATTACH;FMTTYPE=image/jpeg:https://rochestermnbaptistchurch.org/wp-content/uploads/2023/04/youth.jpeg
END:VEVENT
END:VCALENDAR