BEGIN:VCALENDAR
VERSION:2.0
PRODID:-//Rochester Baptist Church - ECPv6.15.20//NONSGML v1.0//EN
CALSCALE:GREGORIAN
METHOD:PUBLISH
X-WR-CALNAME:Rochester Baptist Church
X-ORIGINAL-URL:https://rochestermnbaptistchurch.org
X-WR-CALDESC:Events for Rochester Baptist Church
REFRESH-INTERVAL;VALUE=DURATION:PT1H
X-Robots-Tag:noindex
X-PUBLISHED-TTL:PT1H
BEGIN:VTIMEZONE
TZID:America/Chicago
BEGIN:DAYLIGHT
TZOFFSETFROM:-0600
TZOFFSETTO:-0500
TZNAME:CDT
DTSTART:20220313T080000
END:DAYLIGHT
BEGIN:STANDARD
TZOFFSETFROM:-0500
TZOFFSETTO:-0600
TZNAME:CST
DTSTART:20221106T070000
END:STANDARD
BEGIN:DAYLIGHT
TZOFFSETFROM:-0600
TZOFFSETTO:-0500
TZNAME:CDT
DTSTART:20230312T080000
END:DAYLIGHT
BEGIN:STANDARD
TZOFFSETFROM:-0500
TZOFFSETTO:-0600
TZNAME:CST
DTSTART:20231105T070000
END:STANDARD
BEGIN:DAYLIGHT
TZOFFSETFROM:-0600
TZOFFSETTO:-0500
TZNAME:CDT
DTSTART:20240310T080000
END:DAYLIGHT
BEGIN:STANDARD
TZOFFSETFROM:-0500
TZOFFSETTO:-0600
TZNAME:CST
DTSTART:20241103T070000
END:STANDARD
END:VTIMEZONE
BEGIN:VEVENT
DTSTART;TZID=America/Chicago:20230521T050000
DTEND;TZID=America/Chicago:20230521T073000
DTSTAMP:20260425T202339
CREATED:20230425T061936Z
LAST-MODIFIED:20230425T061936Z
UID:333-1684645200-1684654200@rochestermnbaptistchurch.org
SUMMARY:Guest Preacher
DESCRIPTION:Brother Barry Pettyjohn Sr. of First Bible International will be with us today! \nService times: \n10 a.m. Sunday School \n11 a.m. Morning Service
URL:https://rochestermnbaptistchurch.org/event/guest-preacher/
LOCATION:Rochester Baptist Church\, 420 11th Ave NE\, Rochester\, MN\, 55906
ATTACH;FMTTYPE=image/png:https://rochestermnbaptistchurch.org/wp-content/uploads/2023/04/guest_preacher.png
END:VEVENT
END:VCALENDAR